BEGIN:VCALENDAR
VERSION:2.0
PRODID:-//KTEX 106.1 - ECPv6.15.20//NONSGML v1.0//EN
CALSCALE:GREGORIAN
METHOD:PUBLISH
X-WR-CALNAME:KTEX 106.1
X-ORIGINAL-URL:https://ktex.com
X-WR-CALDESC:Events for KTEX 106.1
REFRESH-INTERVAL;VALUE=DURATION:PT1H
X-Robots-Tag:noindex
X-PUBLISHED-TTL:PT1H
BEGIN:VTIMEZONE
TZID:America/Chicago
BEGIN:DAYLIGHT
TZOFFSETFROM:-0600
TZOFFSETTO:-0500
TZNAME:CDT
DTSTART:20220313T080000
END:DAYLIGHT
BEGIN:STANDARD
TZOFFSETFROM:-0500
TZOFFSETTO:-0600
TZNAME:CST
DTSTART:20221106T070000
END:STANDARD
BEGIN:DAYLIGHT
TZOFFSETFROM:-0600
TZOFFSETTO:-0500
TZNAME:CDT
DTSTART:20230312T080000
END:DAYLIGHT
BEGIN:STANDARD
TZOFFSETFROM:-0500
TZOFFSETTO:-0600
TZNAME:CST
DTSTART:20231105T070000
END:STANDARD
BEGIN:DAYLIGHT
TZOFFSETFROM:-0600
TZOFFSETTO:-0500
TZNAME:CDT
DTSTART:20240310T080000
END:DAYLIGHT
BEGIN:STANDARD
TZOFFSETFROM:-0500
TZOFFSETTO:-0600
TZNAME:CST
DTSTART:20241103T070000
END:STANDARD
END:VTIMEZONE
BEGIN:VEVENT
DTSTART;VALUE=DATE:20230728
DTEND;VALUE=DATE:20230814
DTSTAMP:20260421T103229
CREATED:20230725T211938Z
LAST-MODIFIED:20230725T211938Z
UID:41725-1690502400-1691971199@ktex.com
SUMMARY:News Release from the Washington County Appraisal District
DESCRIPTION:The Washington County Tax Appraisal District will close to the public on Friday\, July 28th and will reopen on Monday\, August 14th.  The office closure is for a complete conversion of the appraisal and collections software and staff training on the new product.\nBurton ISD and the City of Burton have moved their tax collections to the WCAD\, making this office a one-stop-shop for all property tax needs.  The new software and website will add functionality and increase productivity.\n  \nWhile the office is closed\, payments can only be made by mail or through the WCAD website at www.washingtoncad.org.  Payments will not draft from owner’s bank accounts until after the office reopens on August 14th\, 2023.\n 
URL:https://ktex.com/event/news-release-from-the-washington-county-appraisal-district/
LOCATION:TX
CATEGORIES:Community Events
ATTACH;FMTTYPE=image/jpeg:https://ktex.com/wp-content/uploads/2023/07/news-release.jpg
END:VEVENT
BEGIN:VEVENT
DTSTART;VALUE=DATE:20230801
DTEND;VALUE=DATE:20230808
DTSTAMP:20260421T103229
CREATED:20230801T193049Z
LAST-MODIFIED:20230801T193049Z
UID:41892-1690848000-1691452799@ktex.com
SUMMARY:Citizens Police Academy/Burleson County-Register NOW
DESCRIPTION:
URL:https://ktex.com/event/citizens-police-academy-burleson-county-register-now/
LOCATION:TX
CATEGORIES:Community Events
ATTACH;FMTTYPE=image/png:https://ktex.com/wp-content/uploads/2023/08/police-academy-somerville-aug-sept.png
END:VEVENT
BEGIN:VEVENT
DTSTART;VALUE=DATE:20230801
DTEND;VALUE=DATE:20230812
DTSTAMP:20260421T103229
CREATED:20230801T134141Z
LAST-MODIFIED:20230801T134141Z
UID:41875-1690848000-1691798399@ktex.com
SUMMARY:Brenham ISD School Bus Registration
DESCRIPTION:Bus Registration for the 2023-24 school year is NOW OPEN! Secure your spot on our school buses and ensure a smooth ride to success. Don’t miss out on this opportunity – visit our Brenham ISD transportation page on our website for more details and REGISTER today!\nDirect link: https://www.brenhamisd.net/page/trans.home\n 
URL:https://ktex.com/event/brenham-isd-school-bus-registration/
LOCATION:TX
CATEGORIES:Community Events
ATTACH;FMTTYPE=image/jpeg:https://ktex.com/wp-content/uploads/2023/08/bisd-school-bus-registration.jpg
END:VEVENT
BEGIN:VEVENT
DTSTART;VALUE=DATE:20230801
DTEND;VALUE=DATE:20230812
DTSTAMP:20260421T103229
CREATED:20230801T134358Z
LAST-MODIFIED:20230801T134358Z
UID:41878-1690848000-1691798399@ktex.com
SUMMARY:Registro de autobuses escolares
DESCRIPTION:Bus Registration for the 2023-24 school year is NOW OPEN! Secure your spot on our school buses and ensure a smooth ride to success. Don’t miss out on this opportunity – visit our Brenham ISD transportation page on our website for more details and REGISTER today!\nDirect link: https://www.brenhamisd.net/page/trans.home\n 
URL:https://ktex.com/event/registro-de-autobuses-escolares/
LOCATION:TX
CATEGORIES:Community Events
ATTACH;FMTTYPE=image/jpeg:https://ktex.com/wp-content/uploads/2023/08/bisd-school-bus-registration-spanish.jpg
END:VEVENT
BEGIN:VEVENT
DTSTART;VALUE=DATE:20230801
DTEND;VALUE=DATE:20230901
DTSTAMP:20260421T103229
CREATED:20230710T193126Z
LAST-MODIFIED:20230710T193126Z
UID:35740-1690848000-1693526399@ktex.com
SUMMARY:Austin County Hay Show & Fall Forage Seminar
DESCRIPTION:Hay samples collected August 1st – 31st 
URL:https://ktex.com/event/austin-county-hay-show-fall-forage-seminar-2/
LOCATION:TX
CATEGORIES:Community Events
ATTACH;FMTTYPE=image/png:https://ktex.com/wp-content/uploads/2023/07/ac-hay-show.png
END:VEVENT
BEGIN:VEVENT
DTSTART;VALUE=DATE:20230803
DTEND;VALUE=DATE:20230807
DTSTAMP:20260421T103229
CREATED:20230713T140403Z
LAST-MODIFIED:20230713T140403Z
UID:35819-1691020800-1691366399@ktex.com
SUMMARY:Schulenburg Festival
DESCRIPTION:The 45th Annual Schulenburg Festival\, running August 3-6\, will fill Wolters Park with live music\, rodeo action\, parades\, pageants\, barbecue and chili cook-offs\, arts and crafts\, games and other fun.  Admission is free on Thursday\, Saturday before 5 p.m.\, and Sunday.  Entry on Friday is $20\, while Saturday after 5 p.m. is $25.  Children 12 and under are admitted free of charge at all times.  To learn more\, go to www.schulenburgfestival.org.
URL:https://ktex.com/event/schulenburg-festival-6/
LOCATION:Wolters Park\, Schulenburg\, TX\, 78956
CATEGORIES:Community Events
ATTACH;FMTTYPE=image/jpeg:https://ktex.com/wp-content/uploads/2023/07/SchulenburgFestival23Flyer-1.jpg
END:VEVENT
BEGIN:VEVENT
DTSTART;VALUE=DATE:20230803
DTEND;VALUE=DATE:20230920
DTSTAMP:20260421T103229
CREATED:20230802T183410Z
LAST-MODIFIED:20230802T183410Z
UID:41924-1691020800-1695167999@ktex.com
SUMMARY:Fall Plant Sale
DESCRIPTION:
URL:https://ktex.com/event/fall-plant-sale/
LOCATION:Texas A&M AgriLife Extension (Washington County)\, 1305 East Blue Bell Road\, Brenham\, TX\, 77833\, United States
CATEGORIES:Community Events
ATTACH;FMTTYPE=image/png:https://ktex.com/wp-content/uploads/2023/08/fall-plant-sale.png
END:VEVENT
BEGIN:VEVENT
DTSTART;VALUE=DATE:20230806
DTEND;VALUE=DATE:20230807
DTSTAMP:20260421T103229
CREATED:20230622T174815Z
LAST-MODIFIED:20230622T174815Z
UID:35434-1691280000-1691366399@ktex.com
SUMMARY:Sts. Peter & Paul Church (Frelsburg) Country Festival
DESCRIPTION:
URL:https://ktex.com/event/sts-peter-paul-church-frelsburg-country-festival/
LOCATION:Sts. Peter & Paul Catholic Church (Frelsburg)\, 1031 Church Ln\, Frelsburg\, TX\, 78950\, United States
CATEGORIES:Community Events
ATTACH;FMTTYPE=image/png:https://ktex.com/wp-content/uploads/2023/06/sts-peter-paul-country-festival.png
END:VEVENT
BEGIN:VEVENT
DTSTART;TZID=America/Chicago:20230806T130000
DTEND;TZID=America/Chicago:20230806T160000
DTSTAMP:20260421T103229
CREATED:20230724T164358Z
LAST-MODIFIED:20230724T164358Z
UID:41709-1691326800-1691337600@ktex.com
SUMMARY:Wedding Association of the Brazos Valley's Fall Show
DESCRIPTION:Who doesn’t love a good wedding\, but let’s face it. They’re so much work! Find your perfect vendor for your special day at the Fall Wedding Show! Catch Eilish there as you sample deserts\, food\, and meet the people that will complete your wedding dream team!
URL:https://ktex.com/event/wedding-association-of-the-brazos-valleys-fall-show/
LOCATION:Brazos Center\, 3232 Briarcrest Dr.\, Bryan\, TX\, 77802\, United States
CATEGORIES:KTEX on the Road
END:VEVENT
BEGIN:VEVENT
DTSTART;TZID=America/Chicago:20230806T140000
DTEND;TZID=America/Chicago:20230806T170000
DTSTAMP:20260421T103229
CREATED:20230726T145816Z
LAST-MODIFIED:20230726T145816Z
UID:41731-1691330400-1691341200@ktex.com
SUMMARY:American Legion hosts Sunday Afternoon Dance
DESCRIPTION:
URL:https://ktex.com/event/american-legion-hosts-sunday-afternoon-dance/
LOCATION:American Legion Hall Brenham\, 903 North Park\, Brenham\, TX\, 77833\, United States
CATEGORIES:Community Events
ATTACH;FMTTYPE=image/png:https://ktex.com/wp-content/uploads/2023/07/sunday-afternoon-dance-aug.png
END:VEVENT
END:VCALENDAR