BEGIN:VCALENDAR
VERSION:2.0
PRODID:-//KTEX 106.1 - ECPv6.15.20//NONSGML v1.0//EN
CALSCALE:GREGORIAN
METHOD:PUBLISH
X-ORIGINAL-URL:https://ktex.com
X-WR-CALDESC:Events for KTEX 106.1
REFRESH-INTERVAL;VALUE=DURATION:PT1H
X-Robots-Tag:noindex
X-PUBLISHED-TTL:PT1H
BEGIN:VTIMEZONE
TZID:America/Chicago
BEGIN:DAYLIGHT
TZOFFSETFROM:-0600
TZOFFSETTO:-0500
TZNAME:CDT
DTSTART:20220313T080000
END:DAYLIGHT
BEGIN:STANDARD
TZOFFSETFROM:-0500
TZOFFSETTO:-0600
TZNAME:CST
DTSTART:20221106T070000
END:STANDARD
BEGIN:DAYLIGHT
TZOFFSETFROM:-0600
TZOFFSETTO:-0500
TZNAME:CDT
DTSTART:20230312T080000
END:DAYLIGHT
BEGIN:STANDARD
TZOFFSETFROM:-0500
TZOFFSETTO:-0600
TZNAME:CST
DTSTART:20231105T070000
END:STANDARD
BEGIN:DAYLIGHT
TZOFFSETFROM:-0600
TZOFFSETTO:-0500
TZNAME:CDT
DTSTART:20240310T080000
END:DAYLIGHT
BEGIN:STANDARD
TZOFFSETFROM:-0500
TZOFFSETTO:-0600
TZNAME:CST
DTSTART:20241103T070000
END:STANDARD
END:VTIMEZONE
BEGIN:VEVENT
DTSTART;VALUE=DATE:20230719
DTEND;VALUE=DATE:20230801
DTSTAMP:20260421T111539
CREATED:20230719T191236Z
LAST-MODIFIED:20230719T191236Z
UID:41644-1689724800-1690847999@ktex.com
SUMMARY:Burton ISD & Burton Short Stop Collecting Donations for Teufel Family
DESCRIPTION:
URL:https://ktex.com/event/burton-isd-burton-short-stop-collecting-donations-for-teufel-family/
LOCATION:TX
CATEGORIES:Community Events
ATTACH;FMTTYPE=image/jpeg:https://ktex.com/wp-content/uploads/2023/07/burton-collecting-donations.jpg
END:VEVENT
BEGIN:VEVENT
DTSTART;VALUE=DATE:20230727
DTEND;VALUE=DATE:20230731
DTSTAMP:20260421T111539
CREATED:20230720T180654Z
LAST-MODIFIED:20230720T180654Z
UID:41669-1690416000-1690761599@ktex.com
SUMMARY:Unity Theatre presents Jack and The Beanstalk
DESCRIPTION:
URL:https://ktex.com/event/unity-theatre-presents-jack-and-the-beanstalk/
LOCATION:Unity Theatre\, 314 E Alamo St\, Brenham\, TX\, 77833\, United States
CATEGORIES:Community Events
ATTACH;FMTTYPE=image/jpeg:https://ktex.com/wp-content/uploads/2023/07/jack-and-the-beanstalk.jpg
END:VEVENT
BEGIN:VEVENT
DTSTART;VALUE=DATE:20230728
DTEND;VALUE=DATE:20230814
DTSTAMP:20260421T111539
CREATED:20230725T211938Z
LAST-MODIFIED:20230725T211938Z
UID:41725-1690502400-1691971199@ktex.com
SUMMARY:News Release from the Washington County Appraisal District
DESCRIPTION:The Washington County Tax Appraisal District will close to the public on Friday\, July 28th and will reopen on Monday\, August 14th.  The office closure is for a complete conversion of the appraisal and collections software and staff training on the new product.\nBurton ISD and the City of Burton have moved their tax collections to the WCAD\, making this office a one-stop-shop for all property tax needs.  The new software and website will add functionality and increase productivity.\n  \nWhile the office is closed\, payments can only be made by mail or through the WCAD website at www.washingtoncad.org.  Payments will not draft from owner’s bank accounts until after the office reopens on August 14th\, 2023.\n 
URL:https://ktex.com/event/news-release-from-the-washington-county-appraisal-district/
LOCATION:TX
CATEGORIES:Community Events
ATTACH;FMTTYPE=image/jpeg:https://ktex.com/wp-content/uploads/2023/07/news-release.jpg
END:VEVENT
BEGIN:VEVENT
DTSTART;TZID=America/Chicago:20230730T163000
DTEND;TZID=America/Chicago:20230730T190000
DTSTAMP:20260421T111539
CREATED:20230728T175618Z
LAST-MODIFIED:20230728T175618Z
UID:41759-1690734600-1690743600@ktex.com
SUMMARY:Bucket Calf Program-WCF Scholarship Fundraiser
DESCRIPTION:
URL:https://ktex.com/event/bucket-calf-program-wcf-scholarship-fundraiser/
LOCATION:Washington County Expo Grounds\, 1305 East Blue Bell Road\, Brenham\, TX\, 77833\, United States
CATEGORIES:Community Events
ATTACH;FMTTYPE=image/jpeg:https://ktex.com/wp-content/uploads/2023/07/kona-ice-fundraiser.jpg
END:VEVENT
BEGIN:VEVENT
DTSTART;TZID=America/Chicago:20230730T170000
DTEND;TZID=America/Chicago:20230730T190000
DTSTAMP:20260421T111539
CREATED:20230717T201753Z
LAST-MODIFIED:20230717T201753Z
UID:37012-1690736400-1690743600@ktex.com
SUMMARY:Son-sational Family Night
DESCRIPTION:
URL:https://ktex.com/event/son-sational-family-night/
LOCATION:Chelsey Park (Bellville Mini Park)\, N. Bell Street\, Bellville\, TX\, 77418\, United States
CATEGORIES:Community Events
ATTACH;FMTTYPE=image/png:https://ktex.com/wp-content/uploads/2023/07/son-stational-family-night.png
END:VEVENT
END:VCALENDAR