BEGIN:VCALENDAR
VERSION:2.0
PRODID:-//KTEX 106.1 - ECPv6.15.20//NONSGML v1.0//EN
CALSCALE:GREGORIAN
METHOD:PUBLISH
X-WR-CALNAME:KTEX 106.1
X-ORIGINAL-URL:https://ktex.com
X-WR-CALDESC:Events for KTEX 106.1
REFRESH-INTERVAL;VALUE=DURATION:PT1H
X-Robots-Tag:noindex
X-PUBLISHED-TTL:PT1H
BEGIN:VTIMEZONE
TZID:America/Chicago
BEGIN:DAYLIGHT
TZOFFSETFROM:-0600
TZOFFSETTO:-0500
TZNAME:CDT
DTSTART:20230312T080000
END:DAYLIGHT
BEGIN:STANDARD
TZOFFSETFROM:-0500
TZOFFSETTO:-0600
TZNAME:CST
DTSTART:20231105T070000
END:STANDARD
BEGIN:DAYLIGHT
TZOFFSETFROM:-0600
TZOFFSETTO:-0500
TZNAME:CDT
DTSTART:20240310T080000
END:DAYLIGHT
BEGIN:STANDARD
TZOFFSETFROM:-0500
TZOFFSETTO:-0600
TZNAME:CST
DTSTART:20241103T070000
END:STANDARD
BEGIN:DAYLIGHT
TZOFFSETFROM:-0600
TZOFFSETTO:-0500
TZNAME:CDT
DTSTART:20250309T080000
END:DAYLIGHT
BEGIN:STANDARD
TZOFFSETFROM:-0500
TZOFFSETTO:-0600
TZNAME:CST
DTSTART:20251102T070000
END:STANDARD
END:VTIMEZONE
BEGIN:VEVENT
DTSTART;VALUE=DATE:20240315
DTEND;VALUE=DATE:20240518
DTSTAMP:20260421T051826
CREATED:20240314T141105Z
LAST-MODIFIED:20240314T141145Z
UID:46196-1710460800-1715990399@ktex.com
SUMMARY:Lifeguard Classes Offered at BBAC
DESCRIPTION:LIFEGUARD CLASSES STARTING SOON!!!!! \nAre you looking for a flexible job\, that is understanding of school\, sports and family? Are you looking to make a difference in the community? Want to learn how to save lives? Apply today to be a lifeguard at jobs.cityofbrenham.org. We train you for FREE!! \nUpcoming Lifeguard Classes: \nSession 2 │ March 15 – 17 9:00 am – 4:00 pm \nSession 3 │ April 12 5:00 – 9:00pm │ April 13 & 14 9:00 am – 5:00 pm \nSession 4 │ April 26 5:00 – 9:00pm │ April 27 & 28 9:00 am – 5:00 pm \nSession 5 │ May 17 5:00 – 9:00pm │ May 18 & 19 9:00 am – 5:00 pm \n#BBACteam #BBACfun #LifeguardsHaveMoreFun #ParksandRecreation #CityofBrenham
URL:https://ktex.com/event/lifeguard-classes-offered-at-bbac/
LOCATION:Blue Bell Aquatic Center\, 1800 E Tom Green St\, Brenham\, TX\, 77833\, United States
CATEGORIES:Community Events
ATTACH;FMTTYPE=image/png:https://ktex.com/wp-content/uploads/2024/03/bbac-lifeguards.png
END:VEVENT
BEGIN:VEVENT
DTSTART;VALUE=DATE:20240324
DTEND;VALUE=DATE:20240401
DTSTAMP:20260421T051826
CREATED:20240318T194059Z
LAST-MODIFIED:20240318T194059Z
UID:46253-1711238400-1711929599@ktex.com
SUMMARY:Easter Week at New Beginning Missionary Baptist Church
DESCRIPTION:
URL:https://ktex.com/event/easter-week-at-new-beginning-missionary-baptist-church/
LOCATION:New Beginning Missionary Baptist Church\, 2105 FM 2935\, Brenham\, TX\, 77833\, United States
CATEGORIES:Community Events
ATTACH;FMTTYPE=image/jpeg:https://ktex.com/wp-content/uploads/2024/03/new-beginning-palm-sun-and-easter.jpg
END:VEVENT
BEGIN:VEVENT
DTSTART;VALUE=DATE:20240325
DTEND;VALUE=DATE:20240326
DTSTAMP:20260421T051826
CREATED:20240320T214423Z
LAST-MODIFIED:20240320T214423Z
UID:46322-1711324800-1711411199@ktex.com
SUMMARY:Washington County Ladies Lions Club Meeting
DESCRIPTION:The Washington County Ladies Lions Club will meet Monday March 25 at Noon at the Cannery Kitchen. The guest speaker is Shelby Smith of Brenham Next.  All items for the drawing are due\, used eyeglasses will be collected.  The public is invited to attend\, RSVP is not required\, lunch is available.
URL:https://ktex.com/event/washington-county-ladies-lions-club-meeting-10/
LOCATION:Cannery Kitchen\, 314 East Alamo Street\, Brenham\, TX\, 77833\, United States
CATEGORIES:Community Events
ATTACH;FMTTYPE=image/jpeg:https://ktex.com/wp-content/uploads/2024/03/wc-ladies-lions-banner.jpg
END:VEVENT
BEGIN:VEVENT
DTSTART;VALUE=DATE:20240325
DTEND;VALUE=DATE:20240326
DTSTAMP:20260421T051826
CREATED:20240321T195913Z
LAST-MODIFIED:20240321T195913Z
UID:46335-1711324800-1711411199@ktex.com
SUMMARY:Jury Trial CANCELLATION
DESCRIPTION:The jury trial scheduled for the District Court on Monday\, March 25\, at 9:00am before Judge Reva Towslee Corbett is cancelled.  Any one summoned is no longer required to appear.  Thank you\, Jurors for your willingness to serve.
URL:https://ktex.com/event/jury-trial-cancellation/
LOCATION:TX
CATEGORIES:Community Events
ATTACH;FMTTYPE=image/jpeg:https://ktex.com/wp-content/uploads/2024/03/jurytrialcanceledFEATURE.jpg
END:VEVENT
END:VCALENDAR