BEGIN:VCALENDAR
VERSION:2.0
PRODID:-//KTEX 106.1 - ECPv6.15.20//NONSGML v1.0//EN
CALSCALE:GREGORIAN
METHOD:PUBLISH
X-WR-CALNAME:KTEX 106.1
X-ORIGINAL-URL:https://ktex.com
X-WR-CALDESC:Events for KTEX 106.1
REFRESH-INTERVAL;VALUE=DURATION:PT1H
X-Robots-Tag:noindex
X-PUBLISHED-TTL:PT1H
BEGIN:VTIMEZONE
TZID:America/Chicago
BEGIN:DAYLIGHT
TZOFFSETFROM:-0600
TZOFFSETTO:-0500
TZNAME:CDT
DTSTART:20220313T080000
END:DAYLIGHT
BEGIN:STANDARD
TZOFFSETFROM:-0500
TZOFFSETTO:-0600
TZNAME:CST
DTSTART:20221106T070000
END:STANDARD
BEGIN:DAYLIGHT
TZOFFSETFROM:-0600
TZOFFSETTO:-0500
TZNAME:CDT
DTSTART:20230312T080000
END:DAYLIGHT
BEGIN:STANDARD
TZOFFSETFROM:-0500
TZOFFSETTO:-0600
TZNAME:CST
DTSTART:20231105T070000
END:STANDARD
BEGIN:DAYLIGHT
TZOFFSETFROM:-0600
TZOFFSETTO:-0500
TZNAME:CDT
DTSTART:20240310T080000
END:DAYLIGHT
BEGIN:STANDARD
TZOFFSETFROM:-0500
TZOFFSETTO:-0600
TZNAME:CST
DTSTART:20241103T070000
END:STANDARD
BEGIN:DAYLIGHT
TZOFFSETFROM:-0600
TZOFFSETTO:-0500
TZNAME:CDT
DTSTART:20250309T080000
END:DAYLIGHT
BEGIN:STANDARD
TZOFFSETFROM:-0500
TZOFFSETTO:-0600
TZNAME:CST
DTSTART:20251102T070000
END:STANDARD
END:VTIMEZONE
BEGIN:VEVENT
DTSTART;VALUE=DATE:20231229
DTEND;VALUE=DATE:20240126
DTSTAMP:20260421T090511
CREATED:20231229T144030Z
LAST-MODIFIED:20231229T144030Z
UID:44737-1703808000-1706227199@ktex.com
SUMMARY:Washington EEA 4-H Scholarships Offered
DESCRIPTION:
URL:https://ktex.com/event/washington-eea-4-h-scholarships-offered/
LOCATION:TX
CATEGORIES:Community Events
ATTACH;FMTTYPE=image/png:https://ktex.com/wp-content/uploads/2023/12/2024-WEEA-Scholarship-Flyer-002.png
END:VEVENT
BEGIN:VEVENT
DTSTART;VALUE=DATE:20240101
DTEND;VALUE=DATE:20240201
DTSTAMP:20260421T090511
CREATED:20231213T210231Z
LAST-MODIFIED:20231213T210231Z
UID:44555-1704067200-1706745599@ktex.com
SUMMARY:Washington County A&M Club Membership Drive
DESCRIPTION:
URL:https://ktex.com/event/washington-county-am-club-membership-drive/
LOCATION:TX
CATEGORIES:Community Events
ATTACH;FMTTYPE=image/png:https://ktex.com/wp-content/uploads/2023/12/membership-drive-aggie-supporters.png
END:VEVENT
BEGIN:VEVENT
DTSTART;VALUE=DATE:20240116
DTEND;VALUE=DATE:20240201
DTSTAMP:20260421T090511
CREATED:20240116T223851Z
LAST-MODIFIED:20240116T223851Z
UID:45178-1705363200-1706745599@ktex.com
SUMMARY:Junior Maifest Invitation
DESCRIPTION:
URL:https://ktex.com/event/junior-maifest-invitation/
LOCATION:TX
CATEGORIES:Community Events
ATTACH;FMTTYPE=image/png:https://ktex.com/wp-content/uploads/2024/01/jr-maifest-invitation-english.png
END:VEVENT
BEGIN:VEVENT
DTSTART;VALUE=DATE:20240116
DTEND;VALUE=DATE:20240201
DTSTAMP:20260421T090511
CREATED:20240116T224009Z
LAST-MODIFIED:20240116T224009Z
UID:45181-1705363200-1706745599@ktex.com
SUMMARY:Invitación Junior Maifest
DESCRIPTION:
URL:https://ktex.com/event/invitacion-junior-maifest/
LOCATION:TX
CATEGORIES:Community Events
ATTACH;FMTTYPE=image/png:https://ktex.com/wp-content/uploads/2024/01/jr-maifest-invitation-spanish.png
END:VEVENT
BEGIN:VEVENT
DTSTART;VALUE=DATE:20240116
DTEND;VALUE=DATE:20240203
DTSTAMP:20260421T090511
CREATED:20240116T200920Z
LAST-MODIFIED:20240116T200920Z
UID:45161-1705363200-1706918399@ktex.com
SUMMARY:The Great Candy Bouquet Sale
DESCRIPTION:Brenham HS Floral Design class is currently taking Pre-Orders for their Valentine Candy Bouquet Sale! This is the perfect gift for your little Valentine!\nEnjoy a 1/2 dozen ($15) or Dozen ($20) FULL-SIZED Candy bouquet. (Orders can be customized to the candy of your choice!)  Orders and Payment will be due February 2nd. Please email etaylor@brenhamk-12.net to place your order!
URL:https://ktex.com/event/the-great-candy-bouquet-sale/
LOCATION:TX
CATEGORIES:Community Events
ATTACH;FMTTYPE=image/jpeg:https://ktex.com/wp-content/uploads/2024/01/candy-bouquet.jpg
END:VEVENT
BEGIN:VEVENT
DTSTART;VALUE=DATE:20240117
DTEND;VALUE=DATE:20240203
DTSTAMP:20260421T090511
CREATED:20240117T191003Z
LAST-MODIFIED:20240117T191003Z
UID:45194-1705449600-1706918399@ktex.com
SUMMARY:Brenham Belles Nothing bundt Cakes Fundraiser
DESCRIPTION:
URL:https://ktex.com/event/brenham-belles-nothing-bundt-cakes-fundraiser/
LOCATION:TX
CATEGORIES:Community Events
ATTACH;FMTTYPE=image/jpeg:https://ktex.com/wp-content/uploads/2024/01/belles-bundt-cakes.jpg
END:VEVENT
BEGIN:VEVENT
DTSTART;VALUE=DATE:20240124
DTEND;VALUE=DATE:20240125
DTSTAMP:20260421T090511
CREATED:20240105T210001Z
LAST-MODIFIED:20240105T210001Z
UID:44948-1706054400-1706140799@ktex.com
SUMMARY:Brenham Elks Lodge #979 Membership Meeting
DESCRIPTION:Brenham Elks Lodge #979 membership meeting is Wednesday January 24 at 7 P.M. at the Brenham Elks Lodge.
URL:https://ktex.com/event/brenham-elks-lodge-979-membership-meeting/
LOCATION:Brenham Elks Lodge 979\, 400 East Germania St.\, Brenham\, 77833
CATEGORIES:Community Events
ATTACH;FMTTYPE=image/jpeg:https://ktex.com/wp-content/uploads/2024/01/elks-lodge.jpg
END:VEVENT
BEGIN:VEVENT
DTSTART;VALUE=DATE:20240124
DTEND;VALUE=DATE:20240127
DTSTAMP:20260421T090511
CREATED:20240124T181413Z
LAST-MODIFIED:20240124T181413Z
UID:45339-1706054400-1706313599@ktex.com
SUMMARY:Revival Services at New Hope MBC
DESCRIPTION:
URL:https://ktex.com/event/revival-services-at-new-hope-mbc/
LOCATION:New Hope Missionary Baptist Church (Brenham)\, 704 W. Jefferson St.\, Brenham\, TX\, 77833\, United States
CATEGORIES:Community Events
ATTACH;FMTTYPE=image/jpeg:https://ktex.com/wp-content/uploads/2024/01/revival-at-new-hope.jpg
END:VEVENT
BEGIN:VEVENT
DTSTART;VALUE=DATE:20240124
DTEND;VALUE=DATE:20240215
DTSTAMP:20260421T090511
CREATED:20240124T155712Z
LAST-MODIFIED:20240124T155712Z
UID:45330-1706054400-1707955199@ktex.com
SUMMARY:Brenham Animal Services Half-Price Dog Adoptions
DESCRIPTION:Come get a fur-ever Valentine Half-price dog adoptions until 2/14/24! They all come spayed/neutered\, vaccinated and microchipped.\nhttps://www.petfinder.com/search/pets-for-adoption/
URL:https://ktex.com/event/brenham-animal-services-half-price-dog-adoptions/
LOCATION:Brenham Animal Services and Adoption Center\, 1804 Longwood Drive\, Brenham\, TX\, 77833\, United States
CATEGORIES:Community Events
ATTACH;FMTTYPE=image/jpeg:https://ktex.com/wp-content/uploads/2024/01/pet-adoption-feb.jpg
END:VEVENT
BEGIN:VEVENT
DTSTART;TZID=America/Chicago:20240124T163000
DTEND;TZID=America/Chicago:20240124T183000
DTSTAMP:20260421T090511
CREATED:20240109T220822Z
LAST-MODIFIED:20240109T220822Z
UID:45052-1706113800-1706121000@ktex.com
SUMMARY:Brenham Fire Department Ladies Auxiliary BBQ Chicken Fundraiser
DESCRIPTION:
URL:https://ktex.com/event/brenham-fire-department-ladies-auxiliary-bbq-chicken-fundraiser/
LOCATION:Brenham Fire Department Training Center\, 1101 Hwy 290 West\, Brenham\, TX\, 77833\, United States
CATEGORIES:Community Events
ATTACH;FMTTYPE=image/jpeg:https://ktex.com/wp-content/uploads/2024/01/ladies-aux-brenham-fire-dept-dinner.jpg
END:VEVENT
END:VCALENDAR