BEGIN:VCALENDAR
VERSION:2.0
PRODID:-//KTEX 106.1 - ECPv6.15.20//NONSGML v1.0//EN
CALSCALE:GREGORIAN
METHOD:PUBLISH
X-ORIGINAL-URL:https://ktex.com
X-WR-CALDESC:Events for KTEX 106.1
REFRESH-INTERVAL;VALUE=DURATION:PT1H
X-Robots-Tag:noindex
X-PUBLISHED-TTL:PT1H
BEGIN:VTIMEZONE
TZID:America/Chicago
BEGIN:DAYLIGHT
TZOFFSETFROM:-0600
TZOFFSETTO:-0500
TZNAME:CDT
DTSTART:20220313T080000
END:DAYLIGHT
BEGIN:STANDARD
TZOFFSETFROM:-0500
TZOFFSETTO:-0600
TZNAME:CST
DTSTART:20221106T070000
END:STANDARD
BEGIN:DAYLIGHT
TZOFFSETFROM:-0600
TZOFFSETTO:-0500
TZNAME:CDT
DTSTART:20230312T080000
END:DAYLIGHT
BEGIN:STANDARD
TZOFFSETFROM:-0500
TZOFFSETTO:-0600
TZNAME:CST
DTSTART:20231105T070000
END:STANDARD
BEGIN:DAYLIGHT
TZOFFSETFROM:-0600
TZOFFSETTO:-0500
TZNAME:CDT
DTSTART:20240310T080000
END:DAYLIGHT
BEGIN:STANDARD
TZOFFSETFROM:-0500
TZOFFSETTO:-0600
TZNAME:CST
DTSTART:20241103T070000
END:STANDARD
END:VTIMEZONE
BEGIN:VEVENT
DTSTART;VALUE=DATE:20231017
DTEND;VALUE=DATE:20231120
DTSTAMP:20260421T081527
CREATED:20231017T191236Z
LAST-MODIFIED:20231017T191236Z
UID:43391-1697500800-1700438399@ktex.com
SUMMARY:Brenham Youth Basketball Registration Open Now
DESCRIPTION:
URL:https://ktex.com/event/brenham-youth-basketball-registration-open-now/
LOCATION:TX
CATEGORIES:Community Events
ATTACH;FMTTYPE=image/jpeg:https://ktex.com/wp-content/uploads/2023/10/brenham-youth-bb.jpg
END:VEVENT
BEGIN:VEVENT
DTSTART;VALUE=DATE:20231026
DTEND;VALUE=DATE:20231030
DTSTAMP:20260421T081527
CREATED:20231006T140435Z
LAST-MODIFIED:20231006T140435Z
UID:43267-1698278400-1698623999@ktex.com
SUMMARY:Lanterns & Legends Event
DESCRIPTION:The theme for this year’s Lanterns & Legends event is Faces Behind the Facades and will feature historical Navasota residents whose names appear on the building facades in historic downtown Navasota. Lanterns & Legends is written by local residents\, Mavis and Gary Anderson and Mark Taylor\, and directed by Joyce Yorek. The event features live actors who bring to life historic residents from Navasota’s past.\nFeatured residents this year will include J.T. Lott\, Dr. Alfred Ketchum\, Maurine Chinski\, Mattie Bookman Craig\, and other last names from yesteryear that are still visible downtown\, revealing the faces and stories behind those names on the building facades.\nPerformances Dates\nOctober 26th – 28th & 29th at Oakland Cemetery\nIndoor Performance\nSunday\, October 29th at 2pm at Sunny Furman Theatre\nThe indoor version is created for those who have mobility issues.  You will still experience the History and meet the Characters without all the walking.
URL:https://ktex.com/event/lanterns-legends-event/
LOCATION:TX
CATEGORIES:Community Events
ATTACH;FMTTYPE=image/jpeg:https://ktex.com/wp-content/uploads/2023/10/navasota-ta-oct.jpg
END:VEVENT
BEGIN:VEVENT
DTSTART;VALUE=DATE:20231028
DTEND;VALUE=DATE:20231029
DTSTAMP:20260421T081527
CREATED:20231016T210010Z
LAST-MODIFIED:20231016T215232Z
UID:43365-1698451200-1698537599@ktex.com
SUMMARY:Round Top Rifle Assn Annual Oktobierfest
DESCRIPTION:
URL:https://ktex.com/event/round-top-rifle-assn-annual-oktoberfest/
LOCATION:Round Top Rifle Association\, 710 FM 1457\, Round Top\, TX\, 78954\, United States
CATEGORIES:Community Events
ATTACH;FMTTYPE=image/png:https://ktex.com/wp-content/uploads/2023/10/rt-rifle-assoc-oktoberfest.png
END:VEVENT
BEGIN:VEVENT
DTSTART;VALUE=DATE:20231028
DTEND;VALUE=DATE:20231029
DTSTAMP:20260421T081527
CREATED:20231017T190716Z
LAST-MODIFIED:20231017T190716Z
UID:43385-1698451200-1698537599@ktex.com
SUMMARY:Brenham Belles Mini Belle Clinic
DESCRIPTION:Learning Clinic is Saturday\, October 28\, 2023 @ Brenham HS\nPerformance is Friday\, November 3\, 2023 @ Cub Stadium
URL:https://ktex.com/event/brenham-belles-mini-belle-clinic/
LOCATION:Brenham High School\, 525 A H Ehrig Drive\, Brenham\, TX\, 77833\, United States
CATEGORIES:Community Events
ATTACH;FMTTYPE=image/png:https://ktex.com/wp-content/uploads/2023/10/be-a-belle-mini-camp.png
END:VEVENT
BEGIN:VEVENT
DTSTART;VALUE=DATE:20231028
DTEND;VALUE=DATE:20231029
DTSTAMP:20260421T081527
CREATED:20231018T201736Z
LAST-MODIFIED:20231018T201736Z
UID:43419-1698451200-1698537599@ktex.com
SUMMARY:Fall Dance at Harmonie Hall
DESCRIPTION:
URL:https://ktex.com/event/fall-dance-at-harmonie-hall/
LOCATION:Harmonie Hall (Shelby)\, 509 FM 389 West\, Shelby\, TX\, 78940\, United States
CATEGORIES:Community Events
ATTACH;FMTTYPE=image/png:https://ktex.com/wp-content/uploads/2023/10/fall-dance.png
END:VEVENT
BEGIN:VEVENT
DTSTART;TZID=America/Chicago:20231028T080000
DTEND;TZID=America/Chicago:20231028T150000
DTSTAMP:20260421T081527
CREATED:20231003T192322Z
LAST-MODIFIED:20231003T192322Z
UID:43191-1698480000-1698505200@ktex.com
SUMMARY:United Methodist Women Harvest Market
DESCRIPTION:Event held in the First United Methodist Church-Brenham Activity Center
URL:https://ktex.com/event/united-methodist-women-harvest-market/
LOCATION:First United Methodist Church (Brenham)\, 307 N. Market\, Brenham\, TX\, 77833\, United States
CATEGORIES:Community Events
ATTACH;FMTTYPE=image/png:https://ktex.com/wp-content/uploads/2023/10/umw-harvest-market.png
END:VEVENT
BEGIN:VEVENT
DTSTART;TZID=America/Chicago:20231028T100000
DTEND;TZID=America/Chicago:20231028T150000
DTSTAMP:20260421T081527
CREATED:20230926T135755Z
LAST-MODIFIED:20230926T135755Z
UID:43006-1698487200-1698505200@ktex.com
SUMMARY:Small Town Halloween
DESCRIPTION:
URL:https://ktex.com/event/small-town-halloween/
LOCATION:Downtown Bellville\, Bellville\, TX\, United States
CATEGORIES:Community Events
ATTACH;FMTTYPE=image/png:https://ktex.com/wp-content/uploads/2023/09/small-town-halloween-bellville.png
END:VEVENT
BEGIN:VEVENT
DTSTART;TZID=America/Chicago:20231028T110000
DTEND;TZID=America/Chicago:20231028T160000
DTSTAMP:20260421T081527
CREATED:20231018T201900Z
LAST-MODIFIED:20231018T201900Z
UID:43422-1698490800-1698508800@ktex.com
SUMMARY:High Hope Care Center Fall Festival
DESCRIPTION:
URL:https://ktex.com/event/high-hope-care-center-fall-festival/
LOCATION:The Yard\, 1405 W. Main Street\, Brenham\, Texas\, 77833
CATEGORIES:Community Events
ATTACH;FMTTYPE=image/png:https://ktex.com/wp-content/uploads/2023/10/high-hope-fall-festival.png
END:VEVENT
BEGIN:VEVENT
DTSTART;TZID=America/Chicago:20231028T130000
DTEND;TZID=America/Chicago:20231028T150000
DTSTAMP:20260421T081527
CREATED:20231017T191114Z
LAST-MODIFIED:20231017T191114Z
UID:43388-1698498000-1698505200@ktex.com
SUMMARY:BVSCU Trunk or Treat
DESCRIPTION:
URL:https://ktex.com/event/bvscu-trunk-or-treat/
LOCATION:Brazos Valley Schools Credit Union (Brenham Branch)\, 2455 Stringer St.\, Brenham\, TX\, 77833\, United States
CATEGORIES:Community Events
ATTACH;FMTTYPE=image/jpeg:https://ktex.com/wp-content/uploads/2023/10/trunk-or-treat-bvscu.jpg
END:VEVENT
BEGIN:VEVENT
DTSTART;TZID=America/Chicago:20231028T140000
DTEND;TZID=America/Chicago:20231028T170000
DTSTAMP:20260421T081527
CREATED:20230912T201502Z
LAST-MODIFIED:20230929T140604Z
UID:42746-1698501600-1698512400@ktex.com
SUMMARY:Brenham's Main Street Mask-erade on Main
DESCRIPTION:Brenham’s Main Street announces the Mask-erade on Main in Downtown Brenham will be held Saturday\, October 28\, 2023\, from 2:00 PM to 5:00 PM. The event offers trick-or-treating events at downtown businesses\, food trucks\, live music\, and much more. City departments like the Brenham Fire Department and Animal Services\, will be in attendance. The event is free to the public and there is no need to register. The sponsor of Mask-erade on Main is Ace Hardware. \nFor more information or for questions\, visit bit.ly/3RidJ6H or call Leigh Linden at 979-337-7239 or email to llinden@cityofbrenham.org. Details will also be listed on the Main Street and Downtown Brenham Facebook pages.
URL:https://ktex.com/event/brenham-ace-hardware-hosting-mask-erade-on-main-downtown-brenham/
LOCATION:Downtown Brenham
CATEGORIES:Community Events
ATTACH;FMTTYPE=image/png:https://ktex.com/wp-content/uploads/2023/09/Maskerade-on-Main-Facebook-Cover_-003.png
END:VEVENT
BEGIN:VEVENT
DTSTART;TZID=America/Chicago:20231028T150000
DTEND;TZID=America/Chicago:20231028T190000
DTSTAMP:20260421T081527
CREATED:20231026T173806Z
LAST-MODIFIED:20231026T173806Z
UID:43589-1698505200-1698519600@ktex.com
SUMMARY:Fall Festival at Goodwill MBC
DESCRIPTION:
URL:https://ktex.com/event/fall-festival-at-goodwill-mbc/
LOCATION:Goodwill Missionary Baptist Church (Brenham)\, 9180 Hwy. 105\, Brenham\, TX\, 77833\, United States
CATEGORIES:Community Events
ATTACH;FMTTYPE=image/jpeg:https://ktex.com/wp-content/uploads/2023/10/fall-fest-at-goodwill.jpg
END:VEVENT
BEGIN:VEVENT
DTSTART;TZID=America/Chicago:20231028T170000
DTEND;TZID=America/Chicago:20231028T200000
DTSTAMP:20260421T081527
CREATED:20230926T135625Z
LAST-MODIFIED:20230926T135625Z
UID:43003-1698512400-1698523200@ktex.com
SUMMARY:Family Fall Festival
DESCRIPTION:
URL:https://ktex.com/event/family-fall-festival/
LOCATION:Christian City Fellowship\, 5243 Hwy 36 N\, Sealy\, TX\, United States
CATEGORIES:Community Events
ATTACH;FMTTYPE=image/png:https://ktex.com/wp-content/uploads/2023/09/family-fall-fest.png
END:VEVENT
END:VCALENDAR