BEGIN:VCALENDAR
VERSION:2.0
PRODID:-//KTEX 106.1 - ECPv6.15.20//NONSGML v1.0//EN
CALSCALE:GREGORIAN
METHOD:PUBLISH
X-ORIGINAL-URL:https://ktex.com
X-WR-CALDESC:Events for KTEX 106.1
REFRESH-INTERVAL;VALUE=DURATION:PT1H
X-Robots-Tag:noindex
X-PUBLISHED-TTL:PT1H
BEGIN:VTIMEZONE
TZID:America/Chicago
BEGIN:DAYLIGHT
TZOFFSETFROM:-0600
TZOFFSETTO:-0500
TZNAME:CDT
DTSTART:20220313T080000
END:DAYLIGHT
BEGIN:STANDARD
TZOFFSETFROM:-0500
TZOFFSETTO:-0600
TZNAME:CST
DTSTART:20221106T070000
END:STANDARD
BEGIN:DAYLIGHT
TZOFFSETFROM:-0600
TZOFFSETTO:-0500
TZNAME:CDT
DTSTART:20230312T080000
END:DAYLIGHT
BEGIN:STANDARD
TZOFFSETFROM:-0500
TZOFFSETTO:-0600
TZNAME:CST
DTSTART:20231105T070000
END:STANDARD
BEGIN:DAYLIGHT
TZOFFSETFROM:-0600
TZOFFSETTO:-0500
TZNAME:CDT
DTSTART:20240310T080000
END:DAYLIGHT
BEGIN:STANDARD
TZOFFSETFROM:-0500
TZOFFSETTO:-0600
TZNAME:CST
DTSTART:20241103T070000
END:STANDARD
END:VTIMEZONE
BEGIN:VEVENT
DTSTART;VALUE=DATE:20231002
DTEND;VALUE=DATE:20231020
DTSTAMP:20260421T092858
CREATED:20231016T210334Z
LAST-MODIFIED:20231016T210334Z
UID:43371-1696204800-1697759999@ktex.com
SUMMARY:FBCS Annual Poinsettia Fundraiser
DESCRIPTION:
URL:https://ktex.com/event/fbcs-annual-poinsettia-fundraiser/
LOCATION:TX
CATEGORIES:Community Events
ATTACH;FMTTYPE=image/jpeg:https://ktex.com/wp-content/uploads/2023/10/fbcs-poinsettia-fundraiser.jpg
END:VEVENT
BEGIN:VEVENT
DTSTART;VALUE=DATE:20231017
DTEND;VALUE=DATE:20231120
DTSTAMP:20260421T092858
CREATED:20231017T191236Z
LAST-MODIFIED:20231017T191236Z
UID:43391-1697500800-1700438399@ktex.com
SUMMARY:Brenham Youth Basketball Registration Open Now
DESCRIPTION:
URL:https://ktex.com/event/brenham-youth-basketball-registration-open-now/
LOCATION:TX
CATEGORIES:Community Events
ATTACH;FMTTYPE=image/jpeg:https://ktex.com/wp-content/uploads/2023/10/brenham-youth-bb.jpg
END:VEVENT
BEGIN:VEVENT
DTSTART;VALUE=DATE:20231018
DTEND;VALUE=DATE:20231019
DTSTAMP:20260421T092858
CREATED:20230306T204557Z
LAST-MODIFIED:20230306T204557Z
UID:33273-1697587200-1697673599@ktex.com
SUMMARY:Day by Day with Diabetes
DESCRIPTION:
URL:https://ktex.com/event/day-by-day-with-diabetes-9/
LOCATION:Nancy Carol Roberts Memorial Library\, 100 Martin Luther King Jr. Parkway\, Brenham\, Texas\, 77833
CATEGORIES:Community Events
ATTACH;FMTTYPE=image/png:https://ktex.com/wp-content/uploads/2023/03/day-by-day-w-diabetes.png
END:VEVENT
BEGIN:VEVENT
DTSTART;VALUE=DATE:20231018
DTEND;VALUE=DATE:20231019
DTSTAMP:20260421T092858
CREATED:20230915T134624Z
LAST-MODIFIED:20230915T134624Z
UID:42777-1697587200-1697673599@ktex.com
SUMMARY:Cubs Homecoming Parade
DESCRIPTION:Participants can decorate their float to represent the decade of their choice\, or an element from a specific decade.  A link to where you can sign up to reserve your spot in the parade can be found at https://forms.gle/TRMUNZtqDVbo5irt5.  The Homecoming Parade will be held on Wednesday\, October 18\, in downtown Brenham.  Entries can start lining up that evening at 5pm at the intersection of East Main Street and North Market Street\, with the parade beginning at 6pm. KWHI will have live coverage beginning at 5:45pm.  For this year’s Homecoming Football Game\, the Brenham Cubs will be hosting the Bryan Rudder Rangers on Friday\, October 20\, at 7:30pm at Cub Stadium.  KWHI will have live coverage on 1280AM\, 101.7FM\, and KWHI.com
URL:https://ktex.com/event/cubs-homecoming-parade/
LOCATION:Downtown Brenham
CATEGORIES:Community Events
ATTACH;FMTTYPE=image/jpeg:https://ktex.com/wp-content/uploads/2023/09/Cubs-homecoming-parade-oct.jpg
END:VEVENT
BEGIN:VEVENT
DTSTART;VALUE=DATE:20231018
DTEND;VALUE=DATE:20231019
DTSTAMP:20260421T092858
CREATED:20230926T151254Z
LAST-MODIFIED:20230926T151254Z
UID:43013-1697587200-1697673599@ktex.com
SUMMARY:Burton HS Homecoming Parade
DESCRIPTION:
URL:https://ktex.com/event/burton-hs-homecoming-parade/
LOCATION:Downtown Burton\, 507 N Railroad St\, Burton\, TX\, 77835\, United States
CATEGORIES:Community Events
ATTACH;FMTTYPE=image/png:https://ktex.com/wp-content/uploads/2023/09/burton-hs-homecoming.png
END:VEVENT
BEGIN:VEVENT
DTSTART;TZID=America/Chicago:20231018T090000
DTEND;TZID=America/Chicago:20231018T150000
DTSTAMP:20260421T092858
CREATED:20230926T135341Z
LAST-MODIFIED:20230926T135341Z
UID:43000-1697619600-1697641200@ktex.com
SUMMARY:Faith Academy of Bellville hosting a Blood Drive
DESCRIPTION:
URL:https://ktex.com/event/faith-academy-of-bellville-hosting-a-blood-drive/
LOCATION:Faith Academy of Bellville\, 12177 Hwy. 36\, Bellville\, TX\, 77418\, United States
CATEGORIES:Community Events
ATTACH;FMTTYPE=image/png:https://ktex.com/wp-content/uploads/2023/09/give-blood-oct.png
END:VEVENT
END:VCALENDAR