BEGIN:VCALENDAR
VERSION:2.0
PRODID:-//KTEX 106.1 - ECPv6.15.20//NONSGML v1.0//EN
CALSCALE:GREGORIAN
METHOD:PUBLISH
X-ORIGINAL-URL:https://ktex.com
X-WR-CALDESC:Events for KTEX 106.1
REFRESH-INTERVAL;VALUE=DURATION:PT1H
X-Robots-Tag:noindex
X-PUBLISHED-TTL:PT1H
BEGIN:VTIMEZONE
TZID:America/Chicago
BEGIN:DAYLIGHT
TZOFFSETFROM:-0600
TZOFFSETTO:-0500
TZNAME:CDT
DTSTART:20220313T080000
END:DAYLIGHT
BEGIN:STANDARD
TZOFFSETFROM:-0500
TZOFFSETTO:-0600
TZNAME:CST
DTSTART:20221106T070000
END:STANDARD
BEGIN:DAYLIGHT
TZOFFSETFROM:-0600
TZOFFSETTO:-0500
TZNAME:CDT
DTSTART:20230312T080000
END:DAYLIGHT
BEGIN:STANDARD
TZOFFSETFROM:-0500
TZOFFSETTO:-0600
TZNAME:CST
DTSTART:20231105T070000
END:STANDARD
BEGIN:DAYLIGHT
TZOFFSETFROM:-0600
TZOFFSETTO:-0500
TZNAME:CDT
DTSTART:20240310T080000
END:DAYLIGHT
BEGIN:STANDARD
TZOFFSETFROM:-0500
TZOFFSETTO:-0600
TZNAME:CST
DTSTART:20241103T070000
END:STANDARD
END:VTIMEZONE
BEGIN:VEVENT
DTSTART;VALUE=DATE:20230921
DTEND;VALUE=DATE:20231011
DTSTAMP:20260421T081603
CREATED:20230921T210658Z
LAST-MODIFIED:20230921T210658Z
UID:42920-1695254400-1696982399@ktex.com
SUMMARY:The Pilot Club of Brenham Fundraiser
DESCRIPTION:The Pilot Club of Brenham is proud to announce that they are assuming the popular local fundraiser from the Bosom Buddies “Butter Braid Braided Pastries and Rolls”. The sale will run until October 10th and your delicious frozen pastries will be delivered on November 2nd just in time for the Holidays.  Featuring a variety of flavors to choose from. The cost is $17 each with the exception of the Four Cheese & Herb\, Caramel Rolls\, & Cinnamon Rolls which are $18 each. Please text 979-451-9579 or 512-981-9855 to order. Thank you for supporting Pilot Club of Brenham!
URL:https://ktex.com/event/the-pilot-club-of-brenham-fundraiser/
LOCATION:TX
CATEGORIES:Community Events
ATTACH;FMTTYPE=image/jpeg:https://ktex.com/wp-content/uploads/2023/09/butter-braids-pilot-club.jpg
END:VEVENT
BEGIN:VEVENT
DTSTART;VALUE=DATE:20231002
DTEND;VALUE=DATE:20231020
DTSTAMP:20260421T081603
CREATED:20231016T210334Z
LAST-MODIFIED:20231016T210334Z
UID:43371-1696204800-1697759999@ktex.com
SUMMARY:FBCS Annual Poinsettia Fundraiser
DESCRIPTION:
URL:https://ktex.com/event/fbcs-annual-poinsettia-fundraiser/
LOCATION:TX
CATEGORIES:Community Events
ATTACH;FMTTYPE=image/jpeg:https://ktex.com/wp-content/uploads/2023/10/fbcs-poinsettia-fundraiser.jpg
END:VEVENT
BEGIN:VEVENT
DTSTART;VALUE=DATE:20231006
DTEND;VALUE=DATE:20231016
DTSTAMP:20260421T081603
CREATED:20230724T143422Z
LAST-MODIFIED:20230724T143422Z
UID:41690-1696550400-1697414399@ktex.com
SUMMARY:Austin County Fair
DESCRIPTION:
URL:https://ktex.com/event/austin-county-fair/
LOCATION:Austin County Fairgrounds\, 1076 East Hill\, Bellville\, TX\, 77418\, United States
CATEGORIES:Community Events
ATTACH;FMTTYPE=image/jpeg:https://ktex.com/wp-content/uploads/2023/07/austin-co-fair-2023.jpg
END:VEVENT
BEGIN:VEVENT
DTSTART;VALUE=DATE:20231009
DTEND;VALUE=DATE:20231010
DTSTAMP:20260421T081603
CREATED:20231006T140230Z
LAST-MODIFIED:20231006T140230Z
UID:43264-1696809600-1696895999@ktex.com
SUMMARY:Washington County Ladies Lions Club Meeting
DESCRIPTION:The Washington County Ladies Lions Club will meet Monday October 9 at Noon at the Cannery Kitchen. Members are to bring used eyeglasses\, items for the Senior Citizens and Casa for Kids collections.  RSVP is not required\, The public is invited to attend. Lunch is available.
URL:https://ktex.com/event/washington-county-ladies-lions-club-meeting-3/
LOCATION:Cannery Kitchen\, 314 East Alamo Street\, Brenham\, TX\, 77833\, United States
CATEGORIES:Community Events
ATTACH;FMTTYPE=image/jpeg:https://ktex.com/wp-content/uploads/2023/10/wc-ladies-lions-banner.jpg
END:VEVENT
END:VCALENDAR