BEGIN:VCALENDAR
VERSION:2.0
PRODID:-//KTEX 106.1 - ECPv6.15.20//NONSGML v1.0//EN
CALSCALE:GREGORIAN
METHOD:PUBLISH
X-WR-CALNAME:KTEX 106.1
X-ORIGINAL-URL:https://ktex.com
X-WR-CALDESC:Events for KTEX 106.1
REFRESH-INTERVAL;VALUE=DURATION:PT1H
X-Robots-Tag:noindex
X-PUBLISHED-TTL:PT1H
BEGIN:VTIMEZONE
TZID:America/Chicago
BEGIN:DAYLIGHT
TZOFFSETFROM:-0600
TZOFFSETTO:-0500
TZNAME:CDT
DTSTART:20220313T080000
END:DAYLIGHT
BEGIN:STANDARD
TZOFFSETFROM:-0500
TZOFFSETTO:-0600
TZNAME:CST
DTSTART:20221106T070000
END:STANDARD
BEGIN:DAYLIGHT
TZOFFSETFROM:-0600
TZOFFSETTO:-0500
TZNAME:CDT
DTSTART:20230312T080000
END:DAYLIGHT
BEGIN:STANDARD
TZOFFSETFROM:-0500
TZOFFSETTO:-0600
TZNAME:CST
DTSTART:20231105T070000
END:STANDARD
BEGIN:DAYLIGHT
TZOFFSETFROM:-0600
TZOFFSETTO:-0500
TZNAME:CDT
DTSTART:20240310T080000
END:DAYLIGHT
BEGIN:STANDARD
TZOFFSETFROM:-0500
TZOFFSETTO:-0600
TZNAME:CST
DTSTART:20241103T070000
END:STANDARD
END:VTIMEZONE
BEGIN:VEVENT
DTSTART;VALUE=DATE:20230921
DTEND;VALUE=DATE:20231011
DTSTAMP:20260421T081237
CREATED:20230921T210658Z
LAST-MODIFIED:20230921T210658Z
UID:42920-1695254400-1696982399@ktex.com
SUMMARY:The Pilot Club of Brenham Fundraiser
DESCRIPTION:The Pilot Club of Brenham is proud to announce that they are assuming the popular local fundraiser from the Bosom Buddies “Butter Braid Braided Pastries and Rolls”. The sale will run until October 10th and your delicious frozen pastries will be delivered on November 2nd just in time for the Holidays.  Featuring a variety of flavors to choose from. The cost is $17 each with the exception of the Four Cheese & Herb\, Caramel Rolls\, & Cinnamon Rolls which are $18 each. Please text 979-451-9579 or 512-981-9855 to order. Thank you for supporting Pilot Club of Brenham!
URL:https://ktex.com/event/the-pilot-club-of-brenham-fundraiser/
LOCATION:TX
CATEGORIES:Community Events
ATTACH;FMTTYPE=image/jpeg:https://ktex.com/wp-content/uploads/2023/09/butter-braids-pilot-club.jpg
END:VEVENT
BEGIN:VEVENT
DTSTART;VALUE=DATE:20231001
DTEND;VALUE=DATE:20231002
DTSTAMP:20260421T081237
CREATED:20230912T201227Z
LAST-MODIFIED:20230912T201227Z
UID:42744-1696118400-1696204799@ktex.com
SUMMARY:Brenham High School Cub Company presents Don't Tell The Secret
DESCRIPTION:
URL:https://ktex.com/event/brenham-high-school-cub-company-presents-dont-tell-the-secret/
LOCATION:Brenham High School\, 525 A H Ehrig Drive\, Brenham\, TX\, 77833\, United States
CATEGORIES:Community Events
ATTACH;FMTTYPE=image/jpeg:https://ktex.com/wp-content/uploads/2023/09/dont-tell-the-secret.jpg
END:VEVENT
BEGIN:VEVENT
DTSTART;VALUE=DATE:20231001
DTEND;VALUE=DATE:20231002
DTSTAMP:20260421T081237
CREATED:20230915T204335Z
LAST-MODIFIED:20230915T204335Z
UID:42786-1696118400-1696204799@ktex.com
SUMMARY:Pleasant Grove UMC Homecoming Service
DESCRIPTION:2023 Homecoming Service \n  \nPleasant Grove United Methodist Church \n4950 FM 332 \nBrenham\, TX 77833 \n832-693-5262 \n  \nDate: October 1\, 2023 \nTime: 1:00 pm \n  \nGreat Speaker: Rev. Frank Mays\, Pastor \nPalestine Missionary Baptist Church \n  \nIf unable to attend in person\, please listen in. \nCall 979-337-8350 PIN 8888 \n   \nReverend Dr. Darnell Walker\, Pastor \nLay Leader\, Katherine Sayles \n713-206-5366 \ninfo@PleasantGrove.us
URL:https://ktex.com/event/pleasant-grove-umc-homecoming-service/
LOCATION:Pleasant Grove United Methodist Church (Brenham)\, 4950 FM 332\, Brenham\, TX\, 77833\, United States
CATEGORIES:Community Events
ATTACH;FMTTYPE=image/jpeg:https://ktex.com/wp-content/uploads/2023/09/pleasant-grove-umc-brenham.jpg
END:VEVENT
BEGIN:VEVENT
DTSTART;VALUE=DATE:20231001
DTEND;VALUE=DATE:20231002
DTSTAMP:20260421T081237
CREATED:20230919T143434Z
LAST-MODIFIED:20230919T143434Z
UID:42842-1696118400-1696204799@ktex.com
SUMMARY:Holy Rosary-Frenstat Homecoming Bazaar & Picnic
DESCRIPTION:
URL:https://ktex.com/event/holy-rosary-frenstat-homecoming-bazaar-picnic/
LOCATION:Holy Rosary Catholic Church (Frenstat)\, 8610 FM 2774\, Caldwell\, TX\, 77836\, United States
CATEGORIES:Community Events
ATTACH;FMTTYPE=image/png:https://ktex.com/wp-content/uploads/2023/09/holy-rosary-frenstat-bazaar-picnig-oct.png
END:VEVENT
BEGIN:VEVENT
DTSTART;VALUE=DATE:20231001
DTEND;VALUE=DATE:20231002
DTSTAMP:20260421T081237
CREATED:20230926T134929Z
LAST-MODIFIED:20230926T134929Z
UID:42993-1696118400-1696204799@ktex.com
SUMMARY:169th Annual Mentz Picnic
DESCRIPTION:
URL:https://ktex.com/event/169th-annual-mentz-picnic/
LOCATION:St. Roch Catholic Church Parish Hall
CATEGORIES:Community Events
ATTACH;FMTTYPE=image/png:https://ktex.com/wp-content/uploads/2023/09/mentz-picnic-oct.png
END:VEVENT
BEGIN:VEVENT
DTSTART;TZID=America/Chicago:20231001T130000
DTEND;TZID=America/Chicago:20231001T160000
DTSTAMP:20260421T081237
CREATED:20230911T140627Z
LAST-MODIFIED:20230911T141025Z
UID:42672-1696165200-1696176000@ktex.com
SUMMARY:Mini Cheer & Mascot Camp-Brenham
DESCRIPTION:
URL:https://ktex.com/event/mini-cheer-mascot-camp/
LOCATION:Brenham High School\, 525 A H Ehrig Drive\, Brenham\, TX\, 77833\, United States
CATEGORIES:Community Events
ATTACH;FMTTYPE=image/jpeg:https://ktex.com/wp-content/uploads/2023/09/mini-cheer-oct.jpg
END:VEVENT
END:VCALENDAR