BEGIN:VCALENDAR
VERSION:2.0
PRODID:-//KTEX 106.1 - ECPv6.15.20//NONSGML v1.0//EN
CALSCALE:GREGORIAN
METHOD:PUBLISH
X-ORIGINAL-URL:https://ktex.com
X-WR-CALDESC:Events for KTEX 106.1
REFRESH-INTERVAL;VALUE=DURATION:PT1H
X-Robots-Tag:noindex
X-PUBLISHED-TTL:PT1H
BEGIN:VTIMEZONE
TZID:America/Chicago
BEGIN:DAYLIGHT
TZOFFSETFROM:-0600
TZOFFSETTO:-0500
TZNAME:CDT
DTSTART:20220313T080000
END:DAYLIGHT
BEGIN:STANDARD
TZOFFSETFROM:-0500
TZOFFSETTO:-0600
TZNAME:CST
DTSTART:20221106T070000
END:STANDARD
BEGIN:DAYLIGHT
TZOFFSETFROM:-0600
TZOFFSETTO:-0500
TZNAME:CDT
DTSTART:20230312T080000
END:DAYLIGHT
BEGIN:STANDARD
TZOFFSETFROM:-0500
TZOFFSETTO:-0600
TZNAME:CST
DTSTART:20231105T070000
END:STANDARD
BEGIN:DAYLIGHT
TZOFFSETFROM:-0600
TZOFFSETTO:-0500
TZNAME:CDT
DTSTART:20240310T080000
END:DAYLIGHT
BEGIN:STANDARD
TZOFFSETFROM:-0500
TZOFFSETTO:-0600
TZNAME:CST
DTSTART:20241103T070000
END:STANDARD
END:VTIMEZONE
BEGIN:VEVENT
DTSTART;VALUE=DATE:20230901
DTEND;VALUE=DATE:20230930
DTSTAMP:20260421T093029
CREATED:20230830T194527Z
LAST-MODIFIED:20230830T194527Z
UID:42439-1693526400-1696031999@ktex.com
SUMMARY:Baby Item Drive
DESCRIPTION:New & Gently Used items accepted!\nNew Items: Diapers\, Wipes\, Bottles\, Baby Lotion\, Baby Soap\, Pacifiers\, Washcloths\, Baby Blankets\, Infant Clothes\, Gift Cards & etc.\nGently Used: Baby Clothing\, Wearable Wraps/covers\, Baby Bedding and etc.\n(Large items Brenham Pregnancy Center is accepting) \nIf you’re interested in this Baby Shower Event here is a link to the event! https://facebook.com/events/s/brenham-moms-community-baby-sh/1006515207171618/ \n 
URL:https://ktex.com/event/baby-item-drive/
LOCATION:TX
CATEGORIES:Community Events
ATTACH;FMTTYPE=image/jpeg:https://ktex.com/wp-content/uploads/2023/08/baby-item-drive.jpg
END:VEVENT
BEGIN:VEVENT
DTSTART;VALUE=DATE:20230912
DTEND;VALUE=DATE:20231001
DTSTAMP:20260421T093029
CREATED:20230912T132925Z
LAST-MODIFIED:20230912T132925Z
UID:42712-1694476800-1696118399@ktex.com
SUMMARY:Painted Cub Paws are Back
DESCRIPTION:
URL:https://ktex.com/event/painted-cub-paws-are-back/
LOCATION:TX
CATEGORIES:Community Events
ATTACH;FMTTYPE=image/jpeg:https://ktex.com/wp-content/uploads/2023/09/cub-paws-painted.jpg
END:VEVENT
BEGIN:VEVENT
DTSTART;VALUE=DATE:20230914
DTEND;VALUE=DATE:20231001
DTSTAMP:20260421T093029
CREATED:20230914T134428Z
LAST-MODIFIED:20230914T134428Z
UID:42765-1694649600-1696118399@ktex.com
SUMMARY:Fortnightly Club of Brenham Seeking Club Memorabilia
DESCRIPTION:The Fortnightly Club of Brenham is preparing a permanent display in the Nancy Carol Roberts Library showcasing the history of the Library and The Fortnightly Club of Brenham\, which founded the Library.  Anyone with Club memorabilia (awards\, recognition\, cups\, etc. from events such as the Christmas Decorating Contest\, pre 1980) is urged to contact Renee Mueller at renee_mueller@hotmail.com
URL:https://ktex.com/event/fortnightly-club-of-brenham-seeking-club-memorabilia/
LOCATION:TX
CATEGORIES:Community Events
ATTACH;FMTTYPE=image/jpeg:https://ktex.com/wp-content/uploads/2023/09/fortnightly-club-of-brenham-Picture1-1.jpg
END:VEVENT
BEGIN:VEVENT
DTSTART;VALUE=DATE:20230916
DTEND;VALUE=DATE:20230924
DTSTAMP:20260421T093029
CREATED:20230807T134513Z
LAST-MODIFIED:20230807T194439Z
UID:41969-1694822400-1695513599@ktex.com
SUMMARY:155th Washington County Fair Music Lineup
DESCRIPTION:Washington County Fair music lineup\, the opening weekend on Saturday\, September 16th will host the Risky Liver Band. \nTejano Night on Wednesday\, September 20th will feature Los Igualados and Los Cazadores del Cerro. \nFollowing on Thursday\, September 21st will be Trae Pierce & the T-Stones. \nOn Friday\, September 22nd\, Charlie Robison will open for Shane Smith & the Saints. \nThe final acts of the fair on Saturday\, September 23rd will be William Beckmann leading for headliner Gary LeVox\, the former front man for Rascal Flatts who has embarked on a solo career. \nSeason tickets for the fair are now on sale from each of the fair queen candidates and at www.washingtoncofair.com \n  \nWashington County Fair DISCOUNTS \nSenior Day\nThursday\, September 21\, 2023 (9 a.m. – 6 p.m.)\n60 years and Older – $3.00 \nHonor Our Veterans Day\nFriday\, September 22\, 2023 (9 a.m. – 6 p.m.)\n1/2 Price Gate Admission for Veterans (with Proper ID)
URL:https://ktex.com/event/155th-washington-county-fair-music-lineup/
LOCATION:Washington County Expo Grounds\, 1305 East Blue Bell Road\, Brenham\, TX\, 77833\, United States
CATEGORIES:Community Events
ATTACH;FMTTYPE=image/jpeg:https://ktex.com/wp-content/uploads/2023/08/wcf-entertainment.jpg
END:VEVENT
BEGIN:VEVENT
DTSTART;VALUE=DATE:20230918
DTEND;VALUE=DATE:20230923
DTSTAMP:20260421T093029
CREATED:20230807T134734Z
LAST-MODIFIED:20230807T134734Z
UID:41972-1694995200-1695427199@ktex.com
SUMMARY:Fall Revival Services
DESCRIPTION:
URL:https://ktex.com/event/fall-revival-services/
LOCATION:Mount Olive District Campus\, 1502 Mount Olive Street\, Brenham\, TX\, 77833\, United States
CATEGORIES:Community Events
ATTACH;FMTTYPE=image/jpeg:https://ktex.com/wp-content/uploads/2023/08/fall-revival-sept.jpg
END:VEVENT
BEGIN:VEVENT
DTSTART;VALUE=DATE:20230920
DTEND;VALUE=DATE:20230923
DTSTAMP:20260421T093029
CREATED:20230808T213412Z
LAST-MODIFIED:20230808T213412Z
UID:41993-1695168000-1695427199@ktex.com
SUMMARY:Washington County Fair Mutton Bustin'
DESCRIPTION:
URL:https://ktex.com/event/washington-county-fair-mutton-bustin/
LOCATION:TX
CATEGORIES:Community Events
ATTACH;FMTTYPE=image/jpeg:https://ktex.com/wp-content/uploads/2023/08/mutton-bustin-23.jpg
END:VEVENT
BEGIN:VEVENT
DTSTART;VALUE=DATE:20230921
DTEND;VALUE=DATE:20230922
DTSTAMP:20260421T093029
CREATED:20230526T135812Z
LAST-MODIFIED:20230526T135812Z
UID:34839-1695254400-1695340799@ktex.com
SUMMARY:Burton Community Center Drive-Thru Meals
DESCRIPTION:
URL:https://ktex.com/event/burton-community-center-drive-thru-meals-17/
LOCATION:Burton Community Center\, 6301 Rehburg Rd.\, Burton\, TX\, 77835\, United States
CATEGORIES:Community Events
ATTACH;FMTTYPE=image/png:https://ktex.com/wp-content/uploads/2023/05/burton-comm-center-meals-june-thru-oct.png
END:VEVENT
BEGIN:VEVENT
DTSTART;VALUE=DATE:20230921
DTEND;VALUE=DATE:20230922
DTSTAMP:20260421T093029
CREATED:20230829T203438Z
LAST-MODIFIED:20230829T203504Z
UID:42396-1695254400-1695340799@ktex.com
SUMMARY:After Hours Mixer hosted by WC Tractor-Navasota
DESCRIPTION:
URL:https://ktex.com/event/after-hours-mixer-hosted-by-wc-tractor/
LOCATION:WC Tractor – Navasota\, 10044 HWY 6\, Navasota\, TX\, 77868\, United States
CATEGORIES:Community Events
ATTACH;FMTTYPE=image/png:https://ktex.com/wp-content/uploads/2023/08/after-hours-mixer-sept-wct.png
END:VEVENT
BEGIN:VEVENT
DTSTART;VALUE=DATE:20230921
DTEND;VALUE=DATE:20230922
DTSTAMP:20260421T093029
CREATED:20230830T140210Z
LAST-MODIFIED:20230830T140210Z
UID:42420-1695254400-1695340799@ktex.com
SUMMARY:Friends of Bluebonnet Opry
DESCRIPTION:
URL:https://ktex.com/event/friends-of-bluebonnet-opry/
LOCATION:Silver Wings Ballroom\, 4100 State Highway 105\, Brenham\, TX\, 77833\, United States
CATEGORIES:Community Events
ATTACH;FMTTYPE=image/png:https://ktex.com/wp-content/uploads/2023/08/friends-of-bluebonne-opry-sept.png
END:VEVENT
BEGIN:VEVENT
DTSTART;VALUE=DATE:20230921
DTEND;VALUE=DATE:20230922
DTSTAMP:20260421T093029
CREATED:20230921T135957Z
LAST-MODIFIED:20230921T135957Z
UID:42885-1695254400-1695340799@ktex.com
SUMMARY:Cub Football-Blackout the Pride Land
DESCRIPTION:
URL:https://ktex.com/event/cub-football-blackout-the-pride-land/
LOCATION:Cub Stadium\, 1600 
CATEGORIES:Community Events
ATTACH;FMTTYPE=image/jpeg:https://ktex.com/wp-content/uploads/2023/09/blackout-the-prideland.jpg
END:VEVENT
BEGIN:VEVENT
DTSTART;VALUE=DATE:20230921
DTEND;VALUE=DATE:20231011
DTSTAMP:20260421T093029
CREATED:20230921T210658Z
LAST-MODIFIED:20230921T210658Z
UID:42920-1695254400-1696982399@ktex.com
SUMMARY:The Pilot Club of Brenham Fundraiser
DESCRIPTION:The Pilot Club of Brenham is proud to announce that they are assuming the popular local fundraiser from the Bosom Buddies “Butter Braid Braided Pastries and Rolls”. The sale will run until October 10th and your delicious frozen pastries will be delivered on November 2nd just in time for the Holidays.  Featuring a variety of flavors to choose from. The cost is $17 each with the exception of the Four Cheese & Herb\, Caramel Rolls\, & Cinnamon Rolls which are $18 each. Please text 979-451-9579 or 512-981-9855 to order. Thank you for supporting Pilot Club of Brenham!
URL:https://ktex.com/event/the-pilot-club-of-brenham-fundraiser/
LOCATION:TX
CATEGORIES:Community Events
ATTACH;FMTTYPE=image/jpeg:https://ktex.com/wp-content/uploads/2023/09/butter-braids-pilot-club.jpg
END:VEVENT
END:VCALENDAR