BEGIN:VCALENDAR
VERSION:2.0
PRODID:-//KTEX 106.1 - ECPv6.15.20//NONSGML v1.0//EN
CALSCALE:GREGORIAN
METHOD:PUBLISH
X-WR-CALNAME:KTEX 106.1
X-ORIGINAL-URL:https://ktex.com
X-WR-CALDESC:Events for KTEX 106.1
REFRESH-INTERVAL;VALUE=DURATION:PT1H
X-Robots-Tag:noindex
X-PUBLISHED-TTL:PT1H
BEGIN:VTIMEZONE
TZID:America/Chicago
BEGIN:DAYLIGHT
TZOFFSETFROM:-0600
TZOFFSETTO:-0500
TZNAME:CDT
DTSTART:20220313T080000
END:DAYLIGHT
BEGIN:STANDARD
TZOFFSETFROM:-0500
TZOFFSETTO:-0600
TZNAME:CST
DTSTART:20221106T070000
END:STANDARD
BEGIN:DAYLIGHT
TZOFFSETFROM:-0600
TZOFFSETTO:-0500
TZNAME:CDT
DTSTART:20230312T080000
END:DAYLIGHT
BEGIN:STANDARD
TZOFFSETFROM:-0500
TZOFFSETTO:-0600
TZNAME:CST
DTSTART:20231105T070000
END:STANDARD
BEGIN:DAYLIGHT
TZOFFSETFROM:-0600
TZOFFSETTO:-0500
TZNAME:CDT
DTSTART:20240310T080000
END:DAYLIGHT
BEGIN:STANDARD
TZOFFSETFROM:-0500
TZOFFSETTO:-0600
TZNAME:CST
DTSTART:20241103T070000
END:STANDARD
END:VTIMEZONE
BEGIN:VEVENT
DTSTART;VALUE=DATE:20230803
DTEND;VALUE=DATE:20230920
DTSTAMP:20260421T092805
CREATED:20230802T183410Z
LAST-MODIFIED:20230802T183410Z
UID:41924-1691020800-1695167999@ktex.com
SUMMARY:Fall Plant Sale
DESCRIPTION:
URL:https://ktex.com/event/fall-plant-sale/
LOCATION:Texas A&M AgriLife Extension (Washington County)\, 1305 East Blue Bell Road\, Brenham\, TX\, 77833\, United States
CATEGORIES:Community Events
ATTACH;FMTTYPE=image/png:https://ktex.com/wp-content/uploads/2023/08/fall-plant-sale.png
END:VEVENT
BEGIN:VEVENT
DTSTART;VALUE=DATE:20230901
DTEND;VALUE=DATE:20230913
DTSTAMP:20260421T092805
CREATED:20230613T184607Z
LAST-MODIFIED:20230613T184607Z
UID:35309-1693526400-1694563199@ktex.com
SUMMARY:ACS Bank Field Of Honor
DESCRIPTION:
URL:https://ktex.com/event/acs-bank-field-of-honor/
LOCATION:Austin County State Bank\, 436 S. Front Street\, Bellville\, TX\, 77418\, United States
CATEGORIES:Community Events
ATTACH;FMTTYPE=image/png:https://ktex.com/wp-content/uploads/2023/06/bellville-field-of-honor.png
END:VEVENT
BEGIN:VEVENT
DTSTART;VALUE=DATE:20230901
DTEND;VALUE=DATE:20230919
DTSTAMP:20260421T092805
CREATED:20230825T134909Z
LAST-MODIFIED:20230825T134909Z
UID:42231-1693526400-1695081599@ktex.com
SUMMARY:Washington County Fair Country Creation News
DESCRIPTION:Country Creation Exhibits will be in the EXPO EVENT CENTER for the 2023 Washington County Fair.  All residents of the county are invited and encouraged to participate.\nArt\, Alternative Foods\, Canned Products\, Creative Arts and Crafts\, Designer Craftsman\, Machine Sewn\, Needlework\, Photography and Quilt exhibits are to be entered Thursday September 14th from 3 until 7 pm.  School Art check-in is September 14th from 4 to 5 pm.\nCheck-in time for Baked\, Confections\, Floral and Vegetables is Monday September 18th from 7:30 to 9:00 am.\nBoth Adult and Youth Division Catalogues can be found on-line at:   washingtoncofair.com/p/thefair/country-creations\nYouth exhibitors must be registered online in the ShoWorks system by 6 p.m. September 4th.\nAdult exhibitors can obtain an exhibitor number for $2. when they check-in.
URL:https://ktex.com/event/washington-county-fair-country-creation-news/
LOCATION:TX
CATEGORIES:Community Events
ATTACH;FMTTYPE=image/jpeg:https://ktex.com/wp-content/uploads/2023/08/wcf-event-center.jpg
END:VEVENT
BEGIN:VEVENT
DTSTART;VALUE=DATE:20230901
DTEND;VALUE=DATE:20230930
DTSTAMP:20260421T092805
CREATED:20230830T194527Z
LAST-MODIFIED:20230830T194527Z
UID:42439-1693526400-1696031999@ktex.com
SUMMARY:Baby Item Drive
DESCRIPTION:New & Gently Used items accepted!\nNew Items: Diapers\, Wipes\, Bottles\, Baby Lotion\, Baby Soap\, Pacifiers\, Washcloths\, Baby Blankets\, Infant Clothes\, Gift Cards & etc.\nGently Used: Baby Clothing\, Wearable Wraps/covers\, Baby Bedding and etc.\n(Large items Brenham Pregnancy Center is accepting) \nIf you’re interested in this Baby Shower Event here is a link to the event! https://facebook.com/events/s/brenham-moms-community-baby-sh/1006515207171618/ \n 
URL:https://ktex.com/event/baby-item-drive/
LOCATION:TX
CATEGORIES:Community Events
ATTACH;FMTTYPE=image/jpeg:https://ktex.com/wp-content/uploads/2023/08/baby-item-drive.jpg
END:VEVENT
BEGIN:VEVENT
DTSTART;VALUE=DATE:20230908
DTEND;VALUE=DATE:20230910
DTSTAMP:20260421T092805
CREATED:20230901T211524Z
LAST-MODIFIED:20230901T211524Z
UID:42476-1694131200-1694303999@ktex.com
SUMMARY:Inaugural Whitetail Deer Classic
DESCRIPTION:Free of admission\, enjoy a beer or bourbon\, chat with local taxidermists\, and meet whitetail trophy deer owners from surrounding areas. \nInterested in displaying your whitetail trophy?\nContact: steve@thesmithnavasota.com
URL:https://ktex.com/event/inaugural-whitetail-deer-classic/
LOCATION:P.A. Smith Hotel\, 111 Railroad Street\, Navasota\, TX\, 77868\, United States
CATEGORIES:Community Events
ATTACH;FMTTYPE=image/jpeg:https://ktex.com/wp-content/uploads/2023/09/inaugural-whitetail-deer-classic.jpg
END:VEVENT
BEGIN:VEVENT
DTSTART;VALUE=DATE:20230908
DTEND;VALUE=DATE:20230910
DTSTAMP:20260421T092805
CREATED:20230905T191146Z
LAST-MODIFIED:20230905T191146Z
UID:42519-1694131200-1694303999@ktex.com
SUMMARY:API Bass Tournament
DESCRIPTION:The American Petroleum Institute – Austin Chalk and Brazos Valley Chapters are getting ready to host their annual bass fishing tournament this weekend at Lake Somerville Marina and Campground.   A registration event will take place on Friday\, September 8 at 5 p.m.  Dinner will be served\, and door prizes will be given away.  The tournament gets underway on Saturday\, September 9 at 6 a.m. and will run until 3 p.m.  Prizes include $1\,000 for first place teams in the open division and $500 for teams that finish first in the sportsman division.  There will also be a $100 hourly big bass pot and overall big bass pot.  Proceeds from the tournament go toward local charities and educational endowments.\nFor more details\, head to the API Bass Tournament Facebook page. \nKTEX-106’s Trail Boss Troy will broadcast live from Friday’s dinner and registration event.  KTEX-106 will also provide hourly tournament reports on Saturday.
URL:https://ktex.com/event/api-bass-tournament-2/
LOCATION:Lake Somerville Marina & Campground\, 505 Marina Road\, Brenham\, 77833
CATEGORIES:Community Events
ATTACH;FMTTYPE=image/jpeg:https://ktex.com/wp-content/uploads/2023/09/API-bass-tournament.jpg
END:VEVENT
BEGIN:VEVENT
DTSTART;VALUE=DATE:20230909
DTEND;VALUE=DATE:20230910
DTSTAMP:20260421T092805
CREATED:20230811T140858Z
LAST-MODIFIED:20230811T140858Z
UID:42051-1694217600-1694303999@ktex.com
SUMMARY:Kolache Festival-Caldwell
DESCRIPTION:For more than 20 years\, Caldwell has hosted the Kolache Festival in the downtown square area. This festival celebrates the Czech heritage and is held the second Saturday in September each year.  Tens of thousands of Kolaches are sold\, as well as homemade sausage and festival foods of all kinds which are sold at vendor booths. Dozens and dozens of vendor booths also sell the best quality homemade crafts and other items. There are Czech bands on two stages\, a Kolache eating contest\, period costumes\, dancing\, farm equipment show\, antique car show\, kid rides and activities\, and live acts of all kinds.
URL:https://ktex.com/event/kolache-festival-caldwell/
LOCATION:Downtown Caldwell
CATEGORIES:Community Events
ATTACH;FMTTYPE=image/jpeg:https://ktex.com/wp-content/uploads/2023/08/Kolache-Festival.jpg
END:VEVENT
BEGIN:VEVENT
DTSTART;VALUE=DATE:20230909
DTEND;VALUE=DATE:20230910
DTSTAMP:20260421T092805
CREATED:20230905T190643Z
LAST-MODIFIED:20230905T190643Z
UID:42516-1694217600-1694303999@ktex.com
SUMMARY:Bonnie and Clyde Musical Comedy
DESCRIPTION:
URL:https://ktex.com/event/bonnie-and-clyde-musical-comedy/
LOCATION:Brosig Performing Arts Center\, 105 Brosig Ave.\, Navasota\, TX\, 77868\, United States
CATEGORIES:Community Events
ATTACH;FMTTYPE=image/jpeg:https://ktex.com/wp-content/uploads/2023/09/bonnie-clyde-musical-sept.jpg
END:VEVENT
BEGIN:VEVENT
DTSTART;TZID=America/Chicago:20230909T080000
DTEND;TZID=America/Chicago:20230909T170000
DTSTAMP:20260421T092805
CREATED:20230623T202039Z
LAST-MODIFIED:20230623T202039Z
UID:35467-1694246400-1694278800@ktex.com
SUMMARY:Downtown Giddings Street Market Days
DESCRIPTION:Giddings Street Market Days\, to be held the second Saturday of each month from July to November\, taking place from 9 a.m. to 1 p.m.  The market will be stationed in the parking lot area off of Burleson Street\, between Main Street and Railroad Row.  Vendors selling goods like clothing\, accessories\, jams and jellies\, cheeses\, microgreens\, dog treats and cultural items.
URL:https://ktex.com/event/downtown-giddings-street-market-days-3/
LOCATION:TX
CATEGORIES:Community Events
ATTACH;FMTTYPE=image/gif:https://ktex.com/wp-content/uploads/2023/06/giddings-tx.gif
END:VEVENT
BEGIN:VEVENT
DTSTART;TZID=America/Chicago:20230909T090000
DTEND;TZID=America/Chicago:20230909T130000
DTSTAMP:20260421T092805
CREATED:20230712T141542Z
LAST-MODIFIED:20230712T141542Z
UID:35798-1694250000-1694264400@ktex.com
SUMMARY:2nd Saturday Street Fair (Giddings)
DESCRIPTION:
URL:https://ktex.com/event/2nd-saturday-street-fair-giddings-2/
LOCATION:Downtown Giddings\, 155 W Austin St\, Giddings\, Giddings\, TX\, 78942\, United States
CATEGORIES:Community Events
ATTACH;FMTTYPE=image/png:https://ktex.com/wp-content/uploads/2023/07/giddings-saturday-st-fair.png
END:VEVENT
BEGIN:VEVENT
DTSTART;TZID=America/Chicago:20230909T090000
DTEND;TZID=America/Chicago:20230909T130000
DTSTAMP:20260421T092805
CREATED:20230824T202012Z
LAST-MODIFIED:20230824T202012Z
UID:42221-1694250000-1694264400@ktex.com
SUMMARY:Navasota Farmers Market
DESCRIPTION:
URL:https://ktex.com/event/navasota-farmers-market-2/
LOCATION:Navasota Public Library parking lot\, 1411 E Washington Ave\, Navasota\, TX\, 77838\, United States
CATEGORIES:Community Events
ATTACH;FMTTYPE=image/png:https://ktex.com/wp-content/uploads/2023/08/navasota-farmers-market-sept-002.png
END:VEVENT
END:VCALENDAR