BEGIN:VCALENDAR
VERSION:2.0
PRODID:-//KTEX 106.1 - ECPv6.15.20//NONSGML v1.0//EN
CALSCALE:GREGORIAN
METHOD:PUBLISH
X-WR-CALNAME:KTEX 106.1
X-ORIGINAL-URL:https://ktex.com
X-WR-CALDESC:Events for KTEX 106.1
REFRESH-INTERVAL;VALUE=DURATION:PT1H
X-Robots-Tag:noindex
X-PUBLISHED-TTL:PT1H
BEGIN:VTIMEZONE
TZID:America/Chicago
BEGIN:DAYLIGHT
TZOFFSETFROM:-0600
TZOFFSETTO:-0500
TZNAME:CDT
DTSTART:20220313T080000
END:DAYLIGHT
BEGIN:STANDARD
TZOFFSETFROM:-0500
TZOFFSETTO:-0600
TZNAME:CST
DTSTART:20221106T070000
END:STANDARD
BEGIN:DAYLIGHT
TZOFFSETFROM:-0600
TZOFFSETTO:-0500
TZNAME:CDT
DTSTART:20230312T080000
END:DAYLIGHT
BEGIN:STANDARD
TZOFFSETFROM:-0500
TZOFFSETTO:-0600
TZNAME:CST
DTSTART:20231105T070000
END:STANDARD
BEGIN:DAYLIGHT
TZOFFSETFROM:-0600
TZOFFSETTO:-0500
TZNAME:CDT
DTSTART:20240310T080000
END:DAYLIGHT
BEGIN:STANDARD
TZOFFSETFROM:-0500
TZOFFSETTO:-0600
TZNAME:CST
DTSTART:20241103T070000
END:STANDARD
END:VTIMEZONE
BEGIN:VEVENT
DTSTART;VALUE=DATE:20230803
DTEND;VALUE=DATE:20230920
DTSTAMP:20260421T093315
CREATED:20230802T183410Z
LAST-MODIFIED:20230802T183410Z
UID:41924-1691020800-1695167999@ktex.com
SUMMARY:Fall Plant Sale
DESCRIPTION:
URL:https://ktex.com/event/fall-plant-sale/
LOCATION:Texas A&M AgriLife Extension (Washington County)\, 1305 East Blue Bell Road\, Brenham\, TX\, 77833\, United States
CATEGORIES:Community Events
ATTACH;FMTTYPE=image/png:https://ktex.com/wp-content/uploads/2023/08/fall-plant-sale.png
END:VEVENT
BEGIN:VEVENT
DTSTART;VALUE=DATE:20230901
DTEND;VALUE=DATE:20230913
DTSTAMP:20260421T093315
CREATED:20230613T184607Z
LAST-MODIFIED:20230613T184607Z
UID:35309-1693526400-1694563199@ktex.com
SUMMARY:ACS Bank Field Of Honor
DESCRIPTION:
URL:https://ktex.com/event/acs-bank-field-of-honor/
LOCATION:Austin County State Bank\, 436 S. Front Street\, Bellville\, TX\, 77418\, United States
CATEGORIES:Community Events
ATTACH;FMTTYPE=image/png:https://ktex.com/wp-content/uploads/2023/06/bellville-field-of-honor.png
END:VEVENT
BEGIN:VEVENT
DTSTART;VALUE=DATE:20230901
DTEND;VALUE=DATE:20230919
DTSTAMP:20260421T093315
CREATED:20230825T134909Z
LAST-MODIFIED:20230825T134909Z
UID:42231-1693526400-1695081599@ktex.com
SUMMARY:Washington County Fair Country Creation News
DESCRIPTION:Country Creation Exhibits will be in the EXPO EVENT CENTER for the 2023 Washington County Fair.  All residents of the county are invited and encouraged to participate.\nArt\, Alternative Foods\, Canned Products\, Creative Arts and Crafts\, Designer Craftsman\, Machine Sewn\, Needlework\, Photography and Quilt exhibits are to be entered Thursday September 14th from 3 until 7 pm.  School Art check-in is September 14th from 4 to 5 pm.\nCheck-in time for Baked\, Confections\, Floral and Vegetables is Monday September 18th from 7:30 to 9:00 am.\nBoth Adult and Youth Division Catalogues can be found on-line at:   washingtoncofair.com/p/thefair/country-creations\nYouth exhibitors must be registered online in the ShoWorks system by 6 p.m. September 4th.\nAdult exhibitors can obtain an exhibitor number for $2. when they check-in.
URL:https://ktex.com/event/washington-county-fair-country-creation-news/
LOCATION:TX
CATEGORIES:Community Events
ATTACH;FMTTYPE=image/jpeg:https://ktex.com/wp-content/uploads/2023/08/wcf-event-center.jpg
END:VEVENT
BEGIN:VEVENT
DTSTART;VALUE=DATE:20230901
DTEND;VALUE=DATE:20230930
DTSTAMP:20260421T093315
CREATED:20230830T194527Z
LAST-MODIFIED:20230830T194527Z
UID:42439-1693526400-1696031999@ktex.com
SUMMARY:Baby Item Drive
DESCRIPTION:New & Gently Used items accepted!\nNew Items: Diapers\, Wipes\, Bottles\, Baby Lotion\, Baby Soap\, Pacifiers\, Washcloths\, Baby Blankets\, Infant Clothes\, Gift Cards & etc.\nGently Used: Baby Clothing\, Wearable Wraps/covers\, Baby Bedding and etc.\n(Large items Brenham Pregnancy Center is accepting) \nIf you’re interested in this Baby Shower Event here is a link to the event! https://facebook.com/events/s/brenham-moms-community-baby-sh/1006515207171618/ \n 
URL:https://ktex.com/event/baby-item-drive/
LOCATION:TX
CATEGORIES:Community Events
ATTACH;FMTTYPE=image/jpeg:https://ktex.com/wp-content/uploads/2023/08/baby-item-drive.jpg
END:VEVENT
BEGIN:VEVENT
DTSTART;VALUE=DATE:20230907
DTEND;VALUE=DATE:20230908
DTSTAMP:20260421T093315
CREATED:20230822T134719Z
LAST-MODIFIED:20230822T134719Z
UID:42187-1694044800-1694131199@ktex.com
SUMMARY:Austin County Aggie Moms Club Howdy Social
DESCRIPTION:
URL:https://ktex.com/event/austin-county-aggie-moms-club-howdy-social/
LOCATION:El Jimador Mexican Grill #5\, 864 E/ Hill Street\, Bellville\, TX\, 77418\, United States
CATEGORIES:Community Events
ATTACH;FMTTYPE=image/jpeg:https://ktex.com/wp-content/uploads/2023/08/howdy-social-sept.jpg
END:VEVENT
BEGIN:VEVENT
DTSTART;VALUE=DATE:20230907
DTEND;VALUE=DATE:20230908
DTSTAMP:20260421T093315
CREATED:20230828T192947Z
LAST-MODIFIED:20230828T192947Z
UID:42351-1694044800-1694131199@ktex.com
SUMMARY:Ribbon Cutting - Absolute Roofing
DESCRIPTION:Washington County Chamber Ribbon Cutting for New Member –\nAbsolute Roofing\nThursday\, September 7 at 10:30 a.m.
URL:https://ktex.com/event/ribbon-cutting-absolute-roofing/
LOCATION:Absolute Roofing\, 2950 Hwy. 290 W.\, Brenham\, TX\, 77833\, United States
CATEGORIES:Community Events
ATTACH;FMTTYPE=image/jpeg:https://ktex.com/wp-content/uploads/2023/08/coc-washington-county-ribbon-cutting.jpg
END:VEVENT
BEGIN:VEVENT
DTSTART;TZID=America/Chicago:20230907T110000
DTEND;TZID=America/Chicago:20230907T130000
DTSTAMP:20260421T093315
CREATED:20230901T212727Z
LAST-MODIFIED:20230901T212727Z
UID:42479-1694084400-1694091600@ktex.com
SUMMARY:Remembrance & Honoring Appreciation Lunch
DESCRIPTION:
URL:https://ktex.com/event/remembrance-honoring-appreciation-lunch/
LOCATION:Strickland Funeral Home (Caldwell)\, 530 Hwy. 36 South\, Caldwell\, TX\, 77836\, United States
CATEGORIES:Community Events
ATTACH;FMTTYPE=image/png:https://ktex.com/wp-content/uploads/2023/09/remember-the-fallen.png
END:VEVENT
BEGIN:VEVENT
DTSTART;TZID=America/Chicago:20230907T160000
DTEND;TZID=America/Chicago:20230907T180000
DTSTAMP:20260421T093315
CREATED:20230828T194052Z
LAST-MODIFIED:20230828T194052Z
UID:42357-1694102400-1694109600@ktex.com
SUMMARY:Washington County Chamber Connect After 4
DESCRIPTION:Washington County Chamber Networking Event\, sponsored by Glasco Stone & Landscape Supply is Thursday\, September 7 from 4:00-6:00 p.m.
URL:https://ktex.com/event/washington-county-chamber-connect-after-4/
LOCATION:Glasco Stone and Landscape Supply\, 4584 Hwy. 36 S\, Brenham\, TX\, 77833\, United States
CATEGORIES:Community Events
ATTACH;FMTTYPE=image/png:https://ktex.com/wp-content/uploads/2023/08/coc-washington-county.png
END:VEVENT
END:VCALENDAR