BEGIN:VCALENDAR
VERSION:2.0
PRODID:-//KTEX 106.1 - ECPv6.15.20//NONSGML v1.0//EN
CALSCALE:GREGORIAN
METHOD:PUBLISH
X-WR-CALNAME:KTEX 106.1
X-ORIGINAL-URL:https://ktex.com
X-WR-CALDESC:Events for KTEX 106.1
REFRESH-INTERVAL;VALUE=DURATION:PT1H
X-Robots-Tag:noindex
X-PUBLISHED-TTL:PT1H
BEGIN:VTIMEZONE
TZID:America/Chicago
BEGIN:DAYLIGHT
TZOFFSETFROM:-0600
TZOFFSETTO:-0500
TZNAME:CDT
DTSTART:20220313T080000
END:DAYLIGHT
BEGIN:STANDARD
TZOFFSETFROM:-0500
TZOFFSETTO:-0600
TZNAME:CST
DTSTART:20221106T070000
END:STANDARD
BEGIN:DAYLIGHT
TZOFFSETFROM:-0600
TZOFFSETTO:-0500
TZNAME:CDT
DTSTART:20230312T080000
END:DAYLIGHT
BEGIN:STANDARD
TZOFFSETFROM:-0500
TZOFFSETTO:-0600
TZNAME:CST
DTSTART:20231105T070000
END:STANDARD
BEGIN:DAYLIGHT
TZOFFSETFROM:-0600
TZOFFSETTO:-0500
TZNAME:CDT
DTSTART:20240310T080000
END:DAYLIGHT
BEGIN:STANDARD
TZOFFSETFROM:-0500
TZOFFSETTO:-0600
TZNAME:CST
DTSTART:20241103T070000
END:STANDARD
END:VTIMEZONE
BEGIN:VEVENT
DTSTART;VALUE=DATE:20230801
DTEND;VALUE=DATE:20230901
DTSTAMP:20260421T104027
CREATED:20230710T193126Z
LAST-MODIFIED:20230710T193126Z
UID:35740-1690848000-1693526399@ktex.com
SUMMARY:Austin County Hay Show & Fall Forage Seminar
DESCRIPTION:Hay samples collected August 1st – 31st 
URL:https://ktex.com/event/austin-county-hay-show-fall-forage-seminar-2/
LOCATION:TX
CATEGORIES:Community Events
ATTACH;FMTTYPE=image/png:https://ktex.com/wp-content/uploads/2023/07/ac-hay-show.png
END:VEVENT
BEGIN:VEVENT
DTSTART;VALUE=DATE:20230803
DTEND;VALUE=DATE:20230920
DTSTAMP:20260421T104027
CREATED:20230802T183410Z
LAST-MODIFIED:20230802T183410Z
UID:41924-1691020800-1695167999@ktex.com
SUMMARY:Fall Plant Sale
DESCRIPTION:
URL:https://ktex.com/event/fall-plant-sale/
LOCATION:Texas A&M AgriLife Extension (Washington County)\, 1305 East Blue Bell Road\, Brenham\, TX\, 77833\, United States
CATEGORIES:Community Events
ATTACH;FMTTYPE=image/png:https://ktex.com/wp-content/uploads/2023/08/fall-plant-sale.png
END:VEVENT
BEGIN:VEVENT
DTSTART;VALUE=DATE:20230821
DTEND;VALUE=DATE:20230906
DTSTAMP:20260421T104027
CREATED:20230821T142144Z
LAST-MODIFIED:20230821T142144Z
UID:42131-1692576000-1693958399@ktex.com
SUMMARY:WCF Junior Mr. and Miss Contest
DESCRIPTION:APPLICATIONS DUE ON TUESDAY\, SEPTEMBER 5.
URL:https://ktex.com/event/wcf-junior-mr-and-miss-contest/
LOCATION:TX
CATEGORIES:Community Events
ATTACH;FMTTYPE=image/jpeg:https://ktex.com/wp-content/uploads/2023/08/wcf-mr-and-miss.jpg
END:VEVENT
BEGIN:VEVENT
DTSTART;VALUE=DATE:20230825
DTEND;VALUE=DATE:20230826
DTSTAMP:20260421T104027
CREATED:20230515T195207Z
LAST-MODIFIED:20230515T195207Z
UID:34592-1692921600-1693007999@ktex.com
SUMMARY:Fall Horticulture Seminar
DESCRIPTION:
URL:https://ktex.com/event/fall-horticulture-seminar-2/
LOCATION:American Legion Hall Sealy\, 1630 Meyer St\, Sealy\, TX\, 77474\, United States
CATEGORIES:Community Events
ATTACH;FMTTYPE=image/png:https://ktex.com/wp-content/uploads/2023/05/fall-horticulture-seminar-august.png
END:VEVENT
BEGIN:VEVENT
DTSTART;VALUE=DATE:20230825
DTEND;VALUE=DATE:20230826
DTSTAMP:20260421T104027
CREATED:20230808T214019Z
LAST-MODIFIED:20230808T214019Z
UID:42002-1692921600-1693007999@ktex.com
SUMMARY:Washington County Wildlife Society Summer Meeting & Dinner
DESCRIPTION:
URL:https://ktex.com/event/washington-county-wildlife-society-summer-meeting-dinner/
LOCATION:Washington County Expo Event Center\, 1305 E. Blue Bell Rd.\, Brenham\, TX\, 77833\, United States
CATEGORIES:Community Events
ATTACH;FMTTYPE=image/jpeg:https://ktex.com/wp-content/uploads/2023/08/wc-wildlife-soc-meeting-dinner-aug.jpg
END:VEVENT
BEGIN:VEVENT
DTSTART;VALUE=DATE:20230825
DTEND;VALUE=DATE:20230826
DTSTAMP:20260421T104027
CREATED:20230814T205801Z
LAST-MODIFIED:20230814T205801Z
UID:42077-1692921600-1693007999@ktex.com
SUMMARY:Bluebonnet Master Gardener Fruit & Citrus Tree Sale
DESCRIPTION:
URL:https://ktex.com/event/bluebonnet-master-gardener-fruit-citrus-tree-sale/
LOCATION:American Legion Hall Sealy\, 1630 Meyer Street\, Sealy\, TX\, 77474\, United States
CATEGORIES:Community Events
ATTACH;FMTTYPE=image/png:https://ktex.com/wp-content/uploads/2023/08/bbmg-fruit-citrus-tree-sale.png
END:VEVENT
BEGIN:VEVENT
DTSTART;VALUE=DATE:20230825
DTEND;VALUE=DATE:20230826
DTSTAMP:20260421T104027
CREATED:20230822T134007Z
LAST-MODIFIED:20230822T135616Z
UID:42184-1692921600-1693007999@ktex.com
SUMMARY:Varsity Football Time Change
DESCRIPTION:BRENHAM CUB VARSITY FOOTBALL TIME CHANGE!
URL:https://ktex.com/event/varsity-football-time-change/
LOCATION:Cub Stadium\, 1600 
CATEGORIES:Community Events
ATTACH;FMTTYPE=image/jpeg:https://ktex.com/wp-content/uploads/2023/08/game-time-change.jpg
END:VEVENT
BEGIN:VEVENT
DTSTART;VALUE=DATE:20230825
DTEND;VALUE=DATE:20230906
DTSTAMP:20260421T104027
CREATED:20230825T133220Z
LAST-MODIFIED:20230825T133220Z
UID:42225-1692921600-1693958399@ktex.com
SUMMARY:WCF Little Mr. and Miss Contest
DESCRIPTION:Applications for the Little Mr. and Miss Contest at the Washington County Fair are now open.
URL:https://ktex.com/event/wcf-little-mr-and-miss-contest/
LOCATION:TX
CATEGORIES:Community Events
ATTACH;FMTTYPE=image/jpeg:https://ktex.com/wp-content/uploads/2023/08/wcf-little-mr-and-miss.jpg
END:VEVENT
END:VCALENDAR