BEGIN:VCALENDAR
VERSION:2.0
PRODID:-//KTEX 106.1 - ECPv6.15.20//NONSGML v1.0//EN
CALSCALE:GREGORIAN
METHOD:PUBLISH
X-ORIGINAL-URL:https://ktex.com
X-WR-CALDESC:Events for KTEX 106.1
REFRESH-INTERVAL;VALUE=DURATION:PT1H
X-Robots-Tag:noindex
X-PUBLISHED-TTL:PT1H
BEGIN:VTIMEZONE
TZID:America/Chicago
BEGIN:DAYLIGHT
TZOFFSETFROM:-0600
TZOFFSETTO:-0500
TZNAME:CDT
DTSTART:20220313T080000
END:DAYLIGHT
BEGIN:STANDARD
TZOFFSETFROM:-0500
TZOFFSETTO:-0600
TZNAME:CST
DTSTART:20221106T070000
END:STANDARD
BEGIN:DAYLIGHT
TZOFFSETFROM:-0600
TZOFFSETTO:-0500
TZNAME:CDT
DTSTART:20230312T080000
END:DAYLIGHT
BEGIN:STANDARD
TZOFFSETFROM:-0500
TZOFFSETTO:-0600
TZNAME:CST
DTSTART:20231105T070000
END:STANDARD
BEGIN:DAYLIGHT
TZOFFSETFROM:-0600
TZOFFSETTO:-0500
TZNAME:CDT
DTSTART:20240310T080000
END:DAYLIGHT
BEGIN:STANDARD
TZOFFSETFROM:-0500
TZOFFSETTO:-0600
TZNAME:CST
DTSTART:20241103T070000
END:STANDARD
END:VTIMEZONE
BEGIN:VEVENT
DTSTART;VALUE=DATE:20230801
DTEND;VALUE=DATE:20230901
DTSTAMP:20260421T104730
CREATED:20230710T193126Z
LAST-MODIFIED:20230710T193126Z
UID:35740-1690848000-1693526399@ktex.com
SUMMARY:Austin County Hay Show & Fall Forage Seminar
DESCRIPTION:Hay samples collected August 1st – 31st 
URL:https://ktex.com/event/austin-county-hay-show-fall-forage-seminar-2/
LOCATION:TX
CATEGORIES:Community Events
ATTACH;FMTTYPE=image/png:https://ktex.com/wp-content/uploads/2023/07/ac-hay-show.png
END:VEVENT
BEGIN:VEVENT
DTSTART;VALUE=DATE:20230803
DTEND;VALUE=DATE:20230920
DTSTAMP:20260421T104730
CREATED:20230802T183410Z
LAST-MODIFIED:20230802T183410Z
UID:41924-1691020800-1695167999@ktex.com
SUMMARY:Fall Plant Sale
DESCRIPTION:
URL:https://ktex.com/event/fall-plant-sale/
LOCATION:Texas A&M AgriLife Extension (Washington County)\, 1305 East Blue Bell Road\, Brenham\, TX\, 77833\, United States
CATEGORIES:Community Events
ATTACH;FMTTYPE=image/png:https://ktex.com/wp-content/uploads/2023/08/fall-plant-sale.png
END:VEVENT
BEGIN:VEVENT
DTSTART;VALUE=DATE:20230818
DTEND;VALUE=DATE:20230819
DTSTAMP:20260421T104730
CREATED:20230706T134640Z
LAST-MODIFIED:20230706T134640Z
UID:35607-1692316800-1692403199@ktex.com
SUMMARY:Bees & Trees for Homeowners Educational Series
DESCRIPTION:
URL:https://ktex.com/event/bees-trees-for-homeowners-educational-series/
LOCATION:Immaculate Conception German Catholic Church (Industry)\, 15994 TX-159\, Industry\, TX\, 78944\, United States
CATEGORIES:Community Events
ATTACH;FMTTYPE=image/png:https://ktex.com/wp-content/uploads/2023/07/bees-and-trees-homeowners.png
END:VEVENT
BEGIN:VEVENT
DTSTART;VALUE=DATE:20230818
DTEND;VALUE=DATE:20230820
DTSTAMP:20260421T104730
CREATED:20230815T140644Z
LAST-MODIFIED:20230815T140644Z
UID:42095-1692316800-1692489599@ktex.com
SUMMARY:Brenham Guns and Hoses Blood Drive
DESCRIPTION:
URL:https://ktex.com/event/brenham-guns-and-hoses-blood-drive/
LOCATION:Calvary Baptist Church (Brenham)\, 1100 Neibuhr Street\, Brenham\, TX\, 77833\, United States
CATEGORIES:Community Events
ATTACH;FMTTYPE=image/png:https://ktex.com/wp-content/uploads/2023/08/guns-and-hoses-blood-drive-aug.png
END:VEVENT
BEGIN:VEVENT
DTSTART;TZID=America/Chicago:20230818T190000
DTEND;TZID=America/Chicago:20230818T213000
DTSTAMP:20260421T104730
CREATED:20230508T213521Z
LAST-MODIFIED:20230508T213521Z
UID:34434-1692385200-1692394200@ktex.com
SUMMARY:Sounds of Summer-Downtown Navasota
DESCRIPTION:Food trucks will be on site.  Lawn chairs and coolers are encouraged.  Any organizations or businesses interesting in sponsoring the Sounds of Summer can contact City of Navasota Marketing and Communications Director Bobbie Lehrmann at blehrmann@navasotatx.gov.
URL:https://ktex.com/event/sounds-of-summer-downtown-navasota-3/
LOCATION:Downtown Navasota
CATEGORIES:Community Events
ATTACH;FMTTYPE=image/jpeg:https://ktex.com/wp-content/uploads/2023/05/sounds-of-summer-navasota-june-july-aug.jpg
END:VEVENT
END:VCALENDAR