BEGIN:VCALENDAR
VERSION:2.0
PRODID:-//KTEX 106.1 - ECPv6.15.20//NONSGML v1.0//EN
CALSCALE:GREGORIAN
METHOD:PUBLISH
X-WR-CALNAME:KTEX 106.1
X-ORIGINAL-URL:https://ktex.com
X-WR-CALDESC:Events for KTEX 106.1
REFRESH-INTERVAL;VALUE=DURATION:PT1H
X-Robots-Tag:noindex
X-PUBLISHED-TTL:PT1H
BEGIN:VTIMEZONE
TZID:America/Chicago
BEGIN:DAYLIGHT
TZOFFSETFROM:-0600
TZOFFSETTO:-0500
TZNAME:CDT
DTSTART:20220313T080000
END:DAYLIGHT
BEGIN:STANDARD
TZOFFSETFROM:-0500
TZOFFSETTO:-0600
TZNAME:CST
DTSTART:20221106T070000
END:STANDARD
BEGIN:DAYLIGHT
TZOFFSETFROM:-0600
TZOFFSETTO:-0500
TZNAME:CDT
DTSTART:20230312T080000
END:DAYLIGHT
BEGIN:STANDARD
TZOFFSETFROM:-0500
TZOFFSETTO:-0600
TZNAME:CST
DTSTART:20231105T070000
END:STANDARD
BEGIN:DAYLIGHT
TZOFFSETFROM:-0600
TZOFFSETTO:-0500
TZNAME:CDT
DTSTART:20240310T080000
END:DAYLIGHT
BEGIN:STANDARD
TZOFFSETFROM:-0500
TZOFFSETTO:-0600
TZNAME:CST
DTSTART:20241103T070000
END:STANDARD
END:VTIMEZONE
BEGIN:VEVENT
DTSTART;VALUE=DATE:20230717
DTEND;VALUE=DATE:20230720
DTSTAMP:20260421T125145
CREATED:20230608T150756Z
LAST-MODIFIED:20230608T150756Z
UID:35219-1689552000-1689811199@ktex.com
SUMMARY:Brenham Summer Sports Camp Schedule
DESCRIPTION:
URL:https://ktex.com/event/brenham-summer-sports-camp-schedule-4/
LOCATION:Brenham High School\, 525 A H Ehrig Drive\, Brenham\, TX\, 77833\, United States
CATEGORIES:Community Events
ATTACH;FMTTYPE=image/png:https://ktex.com/wp-content/uploads/2023/06/BISD-summer-sports-camp.png
END:VEVENT
BEGIN:VEVENT
DTSTART;VALUE=DATE:20230717
DTEND;VALUE=DATE:20230721
DTSTAMP:20260421T125145
CREATED:20230518T144246Z
LAST-MODIFIED:20230606T202351Z
UID:34667-1689552000-1689897599@ktex.com
SUMMARY:Brenham ISD Summer Meals for Children
DESCRIPTION:This summer\, Brenham ISD will connect children 18 and younger\, as well as\, enrolled students with disabilities up to 21 years old with healthy\, no cost summer meals.  The meals will be served Monday-Thursday at Krause Elementary School\, June 5 through July 27.  They are going to have breakfast available from 7am-8am\, and lunch from noon-1pm.  To find a meal site anywhere across the state of Texas\, families can call 2-1-1 and speak to a live operator\, visit their website at www.SummerFood.org\, or Text FOOD to 304-304.
URL:https://ktex.com/event/brenham-isd-summer-meals-for-children-4/
LOCATION:Krause Elementary School\, 2201 E Stone St\, Brenham\, TX\, 77833\, United States
CATEGORIES:Community Events
ATTACH;FMTTYPE=image/jpeg:https://ktex.com/wp-content/uploads/2023/05/free-summer-meals.jpg
END:VEVENT
BEGIN:VEVENT
DTSTART;VALUE=DATE:20230717
DTEND;VALUE=DATE:20230722
DTSTAMP:20260421T125145
CREATED:20230712T134321Z
LAST-MODIFIED:20230712T134321Z
UID:35792-1689552000-1689983999@ktex.com
SUMMARY:Community-Wide VBS at New Hope MBC
DESCRIPTION:
URL:https://ktex.com/event/community-wide-vbs-at-new-hope-mbc/
LOCATION:New Hope Missionary Baptist Church (Brenham)\, 704 W. Jefferson St.\, Brenham\, TX\, 77833\, United States
CATEGORIES:Community Events
ATTACH;FMTTYPE=image/png:https://ktex.com/wp-content/uploads/2023/07/vbs-new-hope.png
END:VEVENT
BEGIN:VEVENT
DTSTART;VALUE=DATE:20230718
DTEND;VALUE=DATE:20230720
DTSTAMP:20260421T125145
CREATED:20230717T134525Z
LAST-MODIFIED:20230717T134525Z
UID:35834-1689638400-1689811199@ktex.com
SUMMARY:Friends of Nesbitt Memorial Library Book Sale
DESCRIPTION:
URL:https://ktex.com/event/friends-of-nesbitt-memorial-library-book-sale/
LOCATION:Nesbitt Memorial Library\, 529 Washington\, Columbus\, TX\, 78934\, United States
CATEGORIES:Community Events
ATTACH;FMTTYPE=image/jpeg:https://ktex.com/wp-content/uploads/2023/07/friends-of-nesbitt-mem-library-july-aug.jpg
END:VEVENT
BEGIN:VEVENT
DTSTART;VALUE=DATE:20230719
DTEND;VALUE=DATE:20230720
DTSTAMP:20260421T125145
CREATED:20230306T203739Z
LAST-MODIFIED:20230306T203739Z
UID:33267-1689724800-1689811199@ktex.com
SUMMARY:Day by Day with Diabetes
DESCRIPTION:
URL:https://ktex.com/event/day-by-day-with-diabetes-6/
LOCATION:Nancy Carol Roberts Memorial Library\, 100 Martin Luther King Jr. Parkway\, Brenham\, Texas\, 77833
CATEGORIES:Community Events
ATTACH;FMTTYPE=image/png:https://ktex.com/wp-content/uploads/2023/03/day-by-day-w-diabetes.png
END:VEVENT
BEGIN:VEVENT
DTSTART;VALUE=DATE:20230719
DTEND;VALUE=DATE:20230722
DTSTAMP:20260421T125145
CREATED:20230710T140310Z
LAST-MODIFIED:20230710T140310Z
UID:35728-1689724800-1689983999@ktex.com
SUMMARY:Area Revival Services
DESCRIPTION:
URL:https://ktex.com/event/area-revival-services/
LOCATION:TX
CATEGORIES:Community Events
ATTACH;FMTTYPE=image/jpeg:https://ktex.com/wp-content/uploads/2023/07/zion-hill-bpt-revival.jpg
END:VEVENT
BEGIN:VEVENT
DTSTART;VALUE=DATE:20230719
DTEND;VALUE=DATE:20230801
DTSTAMP:20260421T125145
CREATED:20230719T191236Z
LAST-MODIFIED:20230719T191236Z
UID:41644-1689724800-1690847999@ktex.com
SUMMARY:Burton ISD & Burton Short Stop Collecting Donations for Teufel Family
DESCRIPTION:
URL:https://ktex.com/event/burton-isd-burton-short-stop-collecting-donations-for-teufel-family/
LOCATION:TX
CATEGORIES:Community Events
ATTACH;FMTTYPE=image/jpeg:https://ktex.com/wp-content/uploads/2023/07/burton-collecting-donations.jpg
END:VEVENT
BEGIN:VEVENT
DTSTART;TZID=America/Chicago:20230719T100000
DTEND;TZID=America/Chicago:20230719T143000
DTSTAMP:20260421T125145
CREATED:20230621T143641Z
LAST-MODIFIED:20230621T143641Z
UID:35410-1689760800-1689777000@ktex.com
SUMMARY:Brenham Veterinary Hospital host Blood Drive
DESCRIPTION:
URL:https://ktex.com/event/brenham-veterinary-hospital-host-blood-drive/
LOCATION:Brenham Veterinary Hospital\, 2455 Hwy 290 W\, Brenham\, TX\, 77833\, United States
CATEGORIES:Community Events
ATTACH;FMTTYPE=image/jpeg:https://ktex.com/wp-content/uploads/2023/06/give-blood-july-scaled.jpg
END:VEVENT
BEGIN:VEVENT
DTSTART;TZID=America/Chicago:20230719T163000
DTEND;TZID=America/Chicago:20230719T183000
DTSTAMP:20260421T125145
CREATED:20230705T194027Z
LAST-MODIFIED:20230705T194027Z
UID:35604-1689784200-1689791400@ktex.com
SUMMARY:TEEA of Austin County BBQ Fundraiser
DESCRIPTION:PICKUP LOCATIONS\nSchovajsa Catering (Bleiblerville)\nLevine Park (Sealy)\nMargaret Chesley Memorial Park (Bellville)
URL:https://ktex.com/event/teea-of-austin-county-bbq-fundraiser/
LOCATION:TX
CATEGORIES:Community Events
ATTACH;FMTTYPE=image/png:https://ktex.com/wp-content/uploads/2023/07/ac-teea-bbq.png
END:VEVENT
END:VCALENDAR