BEGIN:VCALENDAR
VERSION:2.0
PRODID:-//KTEX 106.1 - ECPv6.15.20//NONSGML v1.0//EN
CALSCALE:GREGORIAN
METHOD:PUBLISH
X-WR-CALNAME:KTEX 106.1
X-ORIGINAL-URL:https://ktex.com
X-WR-CALDESC:Events for KTEX 106.1
REFRESH-INTERVAL;VALUE=DURATION:PT1H
X-Robots-Tag:noindex
X-PUBLISHED-TTL:PT1H
BEGIN:VTIMEZONE
TZID:America/Chicago
BEGIN:DAYLIGHT
TZOFFSETFROM:-0600
TZOFFSETTO:-0500
TZNAME:CDT
DTSTART:20220313T080000
END:DAYLIGHT
BEGIN:STANDARD
TZOFFSETFROM:-0500
TZOFFSETTO:-0600
TZNAME:CST
DTSTART:20221106T070000
END:STANDARD
BEGIN:DAYLIGHT
TZOFFSETFROM:-0600
TZOFFSETTO:-0500
TZNAME:CDT
DTSTART:20230312T080000
END:DAYLIGHT
BEGIN:STANDARD
TZOFFSETFROM:-0500
TZOFFSETTO:-0600
TZNAME:CST
DTSTART:20231105T070000
END:STANDARD
BEGIN:DAYLIGHT
TZOFFSETFROM:-0600
TZOFFSETTO:-0500
TZNAME:CDT
DTSTART:20240310T080000
END:DAYLIGHT
BEGIN:STANDARD
TZOFFSETFROM:-0500
TZOFFSETTO:-0600
TZNAME:CST
DTSTART:20241103T070000
END:STANDARD
END:VTIMEZONE
BEGIN:VEVENT
DTSTART;VALUE=DATE:20230803
DTEND;VALUE=DATE:20230920
DTSTAMP:20260421T080627
CREATED:20230802T183410Z
LAST-MODIFIED:20230802T183410Z
UID:41924-1691020800-1695167999@ktex.com
SUMMARY:Fall Plant Sale
DESCRIPTION:
URL:https://ktex.com/event/fall-plant-sale/
LOCATION:Texas A&M AgriLife Extension (Washington County)\, 1305 East Blue Bell Road\, Brenham\, TX\, 77833\, United States
CATEGORIES:Community Events
ATTACH;FMTTYPE=image/png:https://ktex.com/wp-content/uploads/2023/08/fall-plant-sale.png
END:VEVENT
BEGIN:VEVENT
DTSTART;VALUE=DATE:20230821
DTEND;VALUE=DATE:20230906
DTSTAMP:20260421T080627
CREATED:20230821T142144Z
LAST-MODIFIED:20230821T142144Z
UID:42131-1692576000-1693958399@ktex.com
SUMMARY:WCF Junior Mr. and Miss Contest
DESCRIPTION:APPLICATIONS DUE ON TUESDAY\, SEPTEMBER 5.
URL:https://ktex.com/event/wcf-junior-mr-and-miss-contest/
LOCATION:TX
CATEGORIES:Community Events
ATTACH;FMTTYPE=image/jpeg:https://ktex.com/wp-content/uploads/2023/08/wcf-mr-and-miss.jpg
END:VEVENT
BEGIN:VEVENT
DTSTART;VALUE=DATE:20230825
DTEND;VALUE=DATE:20230906
DTSTAMP:20260421T080627
CREATED:20230825T133220Z
LAST-MODIFIED:20230825T133220Z
UID:42225-1692921600-1693958399@ktex.com
SUMMARY:WCF Little Mr. and Miss Contest
DESCRIPTION:Applications for the Little Mr. and Miss Contest at the Washington County Fair are now open.
URL:https://ktex.com/event/wcf-little-mr-and-miss-contest/
LOCATION:TX
CATEGORIES:Community Events
ATTACH;FMTTYPE=image/jpeg:https://ktex.com/wp-content/uploads/2023/08/wcf-little-mr-and-miss.jpg
END:VEVENT
BEGIN:VEVENT
DTSTART;VALUE=DATE:20230831
DTEND;VALUE=DATE:20230904
DTSTAMP:20260421T080627
CREATED:20230829T151804Z
LAST-MODIFIED:20230829T151804Z
UID:42375-1693440000-1693785599@ktex.com
SUMMARY:Fayette County Fair
DESCRIPTION:
URL:https://ktex.com/event/fayette-county-fair/
LOCATION:Fayette County Fairgrounds\, 400 Fair Grounds\, La Grange\, TX\, 78945\, United States
CATEGORIES:Community Events
ATTACH;FMTTYPE=image/jpeg:https://ktex.com/wp-content/uploads/2023/08/fayette-co-fair-2023.jpg
END:VEVENT
BEGIN:VEVENT
DTSTART;VALUE=DATE:20230901
DTEND;VALUE=DATE:20230902
DTSTAMP:20260421T080627
CREATED:20230127T203730Z
LAST-MODIFIED:20230127T203730Z
UID:32620-1693526400-1693612799@ktex.com
SUMMARY:Downtown Brenham Farmer & Artisan Market
DESCRIPTION:
URL:https://ktex.com/event/downtown-brenham-farmer-artisan-market-8/
LOCATION:Downtown Brenham
CATEGORIES:Community Events
ATTACH;FMTTYPE=image/jpeg:https://ktex.com/wp-content/uploads/2023/01/brenham-farmer-artisan-market.png.jpg
END:VEVENT
BEGIN:VEVENT
DTSTART;VALUE=DATE:20230901
DTEND;VALUE=DATE:20230902
DTSTAMP:20260421T080627
CREATED:20230823T172113Z
LAST-MODIFIED:20230823T172113Z
UID:42206-1693526400-1693612799@ktex.com
SUMMARY:VFW Post 7104 Steak Supper
DESCRIPTION:James F. Dillon VFW Post 7104 will be having a barbecue beef sirloin steak\, pork steak and pork sausage supper on Friday\, Sept. 1\, doors will open at 6:00 and the meal will be served at 7:00\, call 979 203-5586\, 979 277-5061 to make reservation by 12:00 noon on the date of the meal – You may also call the post home at 979 830-8776 (leave a message)\, the meal is open to the public.
URL:https://ktex.com/event/vfw-post-7104-steak-supper-2/
LOCATION:James F. Dillion VFW Post 7104\, 1200 East Tom Green Street\, Brenham\, TX\, 77833\, United States
CATEGORIES:Community Events
ATTACH;FMTTYPE=image/jpeg:https://ktex.com/wp-content/uploads/2023/07/vfw.jpg
END:VEVENT
BEGIN:VEVENT
DTSTART;VALUE=DATE:20230901
DTEND;VALUE=DATE:20230902
DTSTAMP:20260421T080627
CREATED:20230830T135029Z
LAST-MODIFIED:20230830T135029Z
UID:42410-1693526400-1693612799@ktex.com
SUMMARY:Caldwell Football Update
DESCRIPTION:
URL:https://ktex.com/event/caldwell-football-update/
LOCATION:TX
CATEGORIES:Community Events
ATTACH;FMTTYPE=image/jpeg:https://ktex.com/wp-content/uploads/2023/08/caldwell-fb-announcement.jpg
END:VEVENT
BEGIN:VEVENT
DTSTART;VALUE=DATE:20230901
DTEND;VALUE=DATE:20230913
DTSTAMP:20260421T080627
CREATED:20230613T184607Z
LAST-MODIFIED:20230613T184607Z
UID:35309-1693526400-1694563199@ktex.com
SUMMARY:ACS Bank Field Of Honor
DESCRIPTION:
URL:https://ktex.com/event/acs-bank-field-of-honor/
LOCATION:Austin County State Bank\, 436 S. Front Street\, Bellville\, TX\, 77418\, United States
CATEGORIES:Community Events
ATTACH;FMTTYPE=image/png:https://ktex.com/wp-content/uploads/2023/06/bellville-field-of-honor.png
END:VEVENT
BEGIN:VEVENT
DTSTART;VALUE=DATE:20230901
DTEND;VALUE=DATE:20230919
DTSTAMP:20260421T080627
CREATED:20230825T134909Z
LAST-MODIFIED:20230825T134909Z
UID:42231-1693526400-1695081599@ktex.com
SUMMARY:Washington County Fair Country Creation News
DESCRIPTION:Country Creation Exhibits will be in the EXPO EVENT CENTER for the 2023 Washington County Fair.  All residents of the county are invited and encouraged to participate.\nArt\, Alternative Foods\, Canned Products\, Creative Arts and Crafts\, Designer Craftsman\, Machine Sewn\, Needlework\, Photography and Quilt exhibits are to be entered Thursday September 14th from 3 until 7 pm.  School Art check-in is September 14th from 4 to 5 pm.\nCheck-in time for Baked\, Confections\, Floral and Vegetables is Monday September 18th from 7:30 to 9:00 am.\nBoth Adult and Youth Division Catalogues can be found on-line at:   washingtoncofair.com/p/thefair/country-creations\nYouth exhibitors must be registered online in the ShoWorks system by 6 p.m. September 4th.\nAdult exhibitors can obtain an exhibitor number for $2. when they check-in.
URL:https://ktex.com/event/washington-county-fair-country-creation-news/
LOCATION:TX
CATEGORIES:Community Events
ATTACH;FMTTYPE=image/jpeg:https://ktex.com/wp-content/uploads/2023/08/wcf-event-center.jpg
END:VEVENT
BEGIN:VEVENT
DTSTART;VALUE=DATE:20230901
DTEND;VALUE=DATE:20230930
DTSTAMP:20260421T080627
CREATED:20230830T194527Z
LAST-MODIFIED:20230830T194527Z
UID:42439-1693526400-1696031999@ktex.com
SUMMARY:Baby Item Drive
DESCRIPTION:New & Gently Used items accepted!\nNew Items: Diapers\, Wipes\, Bottles\, Baby Lotion\, Baby Soap\, Pacifiers\, Washcloths\, Baby Blankets\, Infant Clothes\, Gift Cards & etc.\nGently Used: Baby Clothing\, Wearable Wraps/covers\, Baby Bedding and etc.\n(Large items Brenham Pregnancy Center is accepting) \nIf you’re interested in this Baby Shower Event here is a link to the event! https://facebook.com/events/s/brenham-moms-community-baby-sh/1006515207171618/ \n 
URL:https://ktex.com/event/baby-item-drive/
LOCATION:TX
CATEGORIES:Community Events
ATTACH;FMTTYPE=image/jpeg:https://ktex.com/wp-content/uploads/2023/08/baby-item-drive.jpg
END:VEVENT
BEGIN:VEVENT
DTSTART;VALUE=DATE:20230902
DTEND;VALUE=DATE:20230903
DTSTAMP:20260421T080627
CREATED:20230825T142030Z
LAST-MODIFIED:20230825T142030Z
UID:42237-1693612800-1693699199@ktex.com
SUMMARY:Bellville Market Day & Farmers Market
DESCRIPTION:
URL:https://ktex.com/event/bellville-market-day-farmers-market/
LOCATION:TX
CATEGORIES:Community Events
ATTACH;FMTTYPE=image/jpeg:https://ktex.com/wp-content/uploads/2023/08/bellville-market-day-farmers-market-sep-oct-nov-dec.jpg
END:VEVENT
BEGIN:VEVENT
DTSTART;TZID=America/Chicago:20230902T073000
DTEND;TZID=America/Chicago:20230902T130000
DTSTAMP:20260421T080627
CREATED:20230829T204148Z
LAST-MODIFIED:20230829T204148Z
UID:42405-1693639800-1693659600@ktex.com
SUMMARY:Navasota Citywide Mission Bake Sale Fundraiser
DESCRIPTION:
URL:https://ktex.com/event/navasota-citywide-mission-bake-sale-fundraiser/
LOCATION:Walmart-Navasota\, 1712 E. Washington Ave.\, Navasota\, TX\, 77868\, United States
CATEGORIES:Community Events
ATTACH;FMTTYPE=image/jpeg:https://ktex.com/wp-content/uploads/2023/08/navasota-citywide-mission-bake-sale.jpg
END:VEVENT
BEGIN:VEVENT
DTSTART;VALUE=DATE:20230903
DTEND;VALUE=DATE:20230904
DTSTAMP:20260421T080627
CREATED:20230718T133259Z
LAST-MODIFIED:20230718T133259Z
UID:37490-1693699200-1693785599@ktex.com
SUMMARY:Labor Day Weekend Feast at St. John The Baptist
DESCRIPTION:
URL:https://ktex.com/event/labor-day-weekend-feast-at-st-john-the-baptist/
LOCATION:St. John the Baptist Catholic Church (Fayetteville)\, 209 E. Bell Street\, Fayetteville\, TX\, 78940\, United States
CATEGORIES:Community Events
ATTACH;FMTTYPE=image/png:https://ktex.com/wp-content/uploads/2023/07/labor-day-st-john-the-baptist.png
END:VEVENT
BEGIN:VEVENT
DTSTART;VALUE=DATE:20230903
DTEND;VALUE=DATE:20230904
DTSTAMP:20260421T080627
CREATED:20230803T143707Z
LAST-MODIFIED:20230803T143707Z
UID:41940-1693699200-1693785599@ktex.com
SUMMARY:St. Stanislaus Catholic Church Annual Bazaar
DESCRIPTION:BOOTHS: OPEN AT 11:00\nCAKE\nKIDS ZONE\nLEMONADE STAND\nTARGET THE CARD\nTOY\n\nPRIZE DRAWINGS AFTER THE AUCTION
URL:https://ktex.com/event/st-stanislaus-catholic-church-annual-bazaar/
LOCATION:St. Stanislaus Catholic Church (Chappell Hill)\, 9175 FM 1371\, Chappell Hill\, TX\, 77426\, United States
CATEGORIES:Community Events
ATTACH;FMTTYPE=image/jpeg:https://ktex.com/wp-content/uploads/2023/08/st-stanislaus-bazaar-sept.jpg
END:VEVENT
BEGIN:VEVENT
DTSTART;VALUE=DATE:20230903
DTEND;VALUE=DATE:20230904
DTSTAMP:20260421T080627
CREATED:20230804T164540Z
LAST-MODIFIED:20230804T164540Z
UID:41949-1693699200-1693785599@ktex.com
SUMMARY:Dime Box VFD Annual Picnic & BBQ
DESCRIPTION:
URL:https://ktex.com/event/dime-box-vfd-annual-picnic-bbq/
LOCATION:Diamond I Venue\, 1081 Co Rd 425\, Dime Box\, 77853
CATEGORIES:Community Events
ATTACH;FMTTYPE=image/png:https://ktex.com/wp-content/uploads/2023/08/Dime-Box-VFD-poster-002.png
END:VEVENT
BEGIN:VEVENT
DTSTART;VALUE=DATE:20230903
DTEND;VALUE=DATE:20230904
DTSTAMP:20260421T080627
CREATED:20230808T193834Z
LAST-MODIFIED:20230808T193834Z
UID:41988-1693699200-1693785599@ktex.com
SUMMARY:Shiner Catholic Church Fall Picnic
DESCRIPTION:
URL:https://ktex.com/event/shiner-catholic-church-fall-picnic/
LOCATION:KC Park Shiner\, 102 S. Ave. G\, Shiner\, TX\, 77984\, United States
CATEGORIES:Community Events
ATTACH;FMTTYPE=image/jpeg:https://ktex.com/wp-content/uploads/2023/08/shiner-cath-ch-fall-picnic.jpg
END:VEVENT
BEGIN:VEVENT
DTSTART;VALUE=DATE:20230903
DTEND;VALUE=DATE:20230904
DTSTAMP:20260421T080627
CREATED:20230815T194141Z
LAST-MODIFIED:20230815T194141Z
UID:42108-1693699200-1693785599@ktex.com
SUMMARY:Holy Cross of Warda Church Picnic
DESCRIPTION:
URL:https://ktex.com/event/holy-cross-of-warda-church-picnic/
LOCATION:Holy Cross Lutheran Church (Warda)\, 600 FM 1482\, Warda\, TX\, 78960\, United States
CATEGORIES:Community Events
ATTACH;FMTTYPE=image/png:https://ktex.com/wp-content/uploads/2023/08/holy-cross-warda.png
END:VEVENT
BEGIN:VEVENT
DTSTART;VALUE=DATE:20230903
DTEND;VALUE=DATE:20230904
DTSTAMP:20260421T080627
CREATED:20230821T214307Z
LAST-MODIFIED:20230821T214307Z
UID:42172-1693699200-1693785599@ktex.com
SUMMARY:Sunday Morning Sunshine Labor Day Radio-Thon
DESCRIPTION:
URL:https://ktex.com/event/sunday-morning-sunshine-labor-day-radio-thon/
LOCATION:Champion Fellowship (Brenham)\, 1801 S. Market Street\, Brenham\, TX\, 77833\, United States
CATEGORIES:Community Events
ATTACH;FMTTYPE=image/png:https://ktex.com/wp-content/uploads/2023/08/SMS-labor-day.png
END:VEVENT
BEGIN:VEVENT
DTSTART;VALUE=DATE:20230905
DTEND;VALUE=DATE:20230906
DTSTAMP:20260421T080627
CREATED:20230801T203020Z
LAST-MODIFIED:20230801T203020Z
UID:41900-1693872000-1693958399@ktex.com
SUMMARY:Fun & Fellowship Game Time
DESCRIPTION:Adults of all ages WELCOME!
URL:https://ktex.com/event/fun-fellowship-game-time/
LOCATION:Bellville Methodist Church\, 234 South Masonic\, Bellville\, TX\, 77418\, United States
CATEGORIES:Community Events
ATTACH;FMTTYPE=image/png:https://ktex.com/wp-content/uploads/2023/08/game-time-aug-through-dec.png
END:VEVENT
BEGIN:VEVENT
DTSTART;VALUE=DATE:20230905
DTEND;VALUE=DATE:20230906
DTSTAMP:20260421T080627
CREATED:20230828T192605Z
LAST-MODIFIED:20230828T192605Z
UID:42348-1693872000-1693958399@ktex.com
SUMMARY:Chamber Ribbon Cutting- Colwell's Chem-Dry
DESCRIPTION:Washington County Chamber Ribbon Cutting for New Member –\nColwell’s Chem-Dry\nTuesday\, September 5 at 10:30 a.m.
URL:https://ktex.com/event/chamber-ribbon-cutting-colwells-chem-dry/
LOCATION:Colwell’s Chem-Dry\, 1117 Industrial Blvd.\, Brenham\, TX\, 77833\, United States
CATEGORIES:Community Events
ATTACH;FMTTYPE=image/jpeg:https://ktex.com/wp-content/uploads/2023/08/coc-washington-county-ribbon-cutting.jpg
END:VEVENT
BEGIN:VEVENT
DTSTART;VALUE=DATE:20230905
DTEND;VALUE=DATE:20230906
DTSTAMP:20260421T080627
CREATED:20230830T210422Z
LAST-MODIFIED:20230830T210422Z
UID:42442-1693872000-1693958399@ktex.com
SUMMARY:Brenham Evening Lions Club Meeting
DESCRIPTION:Brenham Evening Lions Club meeting will be held on Tuesday\, September 5\, beginning with a meal 6:15 pm at the Cannery Kitchen\, followed by the meeting at 7:00 pm.  The public is invited to the meeting\, however if you wish to eat\, you must RSVP to Jo Al Picone at 979 421-0689 by Friday\, Sept. 1st.  The Brenham High School football Coaches\, Danny Youngs and Ryan Jones and Blinn Football Coach Ryan Mahon will present what is deemed to be a very interesting and exciting program to the Lions.  They will be talking about the upcoming football season at BHS and Blinn and sharing other highlights of their respective teams.
URL:https://ktex.com/event/brenham-evening-lions-club-meeting/
LOCATION:Cannery Kitchen\, 314 East Alamo Street\, Brenham\, TX\, 77833\, United States
CATEGORIES:Community Events
ATTACH;FMTTYPE=image/jpeg:https://ktex.com/wp-content/uploads/2023/08/brenham-evening-lions-cl.jpg
END:VEVENT
BEGIN:VEVENT
DTSTART;VALUE=DATE:20230906
DTEND;VALUE=DATE:20230907
DTSTAMP:20260421T080627
CREATED:20230227T210634Z
LAST-MODIFIED:20230227T210634Z
UID:33123-1693958400-1694044799@ktex.com
SUMMARY:Austin County Game Day
DESCRIPTION:
URL:https://ktex.com/event/austin-county-game-day-7/
LOCATION:Sens Activity Center\, 200 Briar Ridge Dr.\, Bellville\, Texas\, 77418\, United States
CATEGORIES:Community Events
ATTACH;FMTTYPE=image/jpeg:https://ktex.com/wp-content/uploads/2023/02/ac-game-day.jpg
END:VEVENT
BEGIN:VEVENT
DTSTART;TZID=America/Chicago:20230906T173000
DTEND;TZID=America/Chicago:20230906T183000
DTSTAMP:20260421T080627
CREATED:20230901T193457Z
LAST-MODIFIED:20230901T193457Z
UID:42470-1694021400-1694025000@ktex.com
SUMMARY:Brenham Girl Scout Service Unit Ice Cream Social
DESCRIPTION:COME LEARN HOW YOU CAN BE A PART OF GIRL SCOUTS!
URL:https://ktex.com/event/brenham-girl-scout-service-unit-ice-cream-social/
LOCATION:City of Brenham Fireman’s Park\, 901 N. Park Street\, Brenham\, TX\, 77833\, United States
CATEGORIES:Community Events
ATTACH;FMTTYPE=image/jpeg:https://ktex.com/wp-content/uploads/2023/09/ice-cream-social-gs.jpg
END:VEVENT
BEGIN:VEVENT
DTSTART;VALUE=DATE:20230907
DTEND;VALUE=DATE:20230908
DTSTAMP:20260421T080627
CREATED:20230822T134719Z
LAST-MODIFIED:20230822T134719Z
UID:42187-1694044800-1694131199@ktex.com
SUMMARY:Austin County Aggie Moms Club Howdy Social
DESCRIPTION:
URL:https://ktex.com/event/austin-county-aggie-moms-club-howdy-social/
LOCATION:El Jimador Mexican Grill #5\, 864 E/ Hill Street\, Bellville\, TX\, 77418\, United States
CATEGORIES:Community Events
ATTACH;FMTTYPE=image/jpeg:https://ktex.com/wp-content/uploads/2023/08/howdy-social-sept.jpg
END:VEVENT
BEGIN:VEVENT
DTSTART;VALUE=DATE:20230907
DTEND;VALUE=DATE:20230908
DTSTAMP:20260421T080627
CREATED:20230828T192947Z
LAST-MODIFIED:20230828T192947Z
UID:42351-1694044800-1694131199@ktex.com
SUMMARY:Ribbon Cutting - Absolute Roofing
DESCRIPTION:Washington County Chamber Ribbon Cutting for New Member –\nAbsolute Roofing\nThursday\, September 7 at 10:30 a.m.
URL:https://ktex.com/event/ribbon-cutting-absolute-roofing/
LOCATION:Absolute Roofing\, 2950 Hwy. 290 W.\, Brenham\, TX\, 77833\, United States
CATEGORIES:Community Events
ATTACH;FMTTYPE=image/jpeg:https://ktex.com/wp-content/uploads/2023/08/coc-washington-county-ribbon-cutting.jpg
END:VEVENT
BEGIN:VEVENT
DTSTART;TZID=America/Chicago:20230907T110000
DTEND;TZID=America/Chicago:20230907T130000
DTSTAMP:20260421T080627
CREATED:20230901T212727Z
LAST-MODIFIED:20230901T212727Z
UID:42479-1694084400-1694091600@ktex.com
SUMMARY:Remembrance & Honoring Appreciation Lunch
DESCRIPTION:
URL:https://ktex.com/event/remembrance-honoring-appreciation-lunch/
LOCATION:Strickland Funeral Home (Caldwell)\, 530 Hwy. 36 South\, Caldwell\, TX\, 77836\, United States
CATEGORIES:Community Events
ATTACH;FMTTYPE=image/png:https://ktex.com/wp-content/uploads/2023/09/remember-the-fallen.png
END:VEVENT
BEGIN:VEVENT
DTSTART;TZID=America/Chicago:20230907T160000
DTEND;TZID=America/Chicago:20230907T180000
DTSTAMP:20260421T080627
CREATED:20230828T194052Z
LAST-MODIFIED:20230828T194052Z
UID:42357-1694102400-1694109600@ktex.com
SUMMARY:Washington County Chamber Connect After 4
DESCRIPTION:Washington County Chamber Networking Event\, sponsored by Glasco Stone & Landscape Supply is Thursday\, September 7 from 4:00-6:00 p.m.
URL:https://ktex.com/event/washington-county-chamber-connect-after-4/
LOCATION:Glasco Stone and Landscape Supply\, 4584 Hwy. 36 S\, Brenham\, TX\, 77833\, United States
CATEGORIES:Community Events
ATTACH;FMTTYPE=image/png:https://ktex.com/wp-content/uploads/2023/08/coc-washington-county.png
END:VEVENT
BEGIN:VEVENT
DTSTART;VALUE=DATE:20230908
DTEND;VALUE=DATE:20230909
DTSTAMP:20260421T080627
CREATED:20230815T213435Z
LAST-MODIFIED:20230815T213435Z
UID:42111-1694131200-1694217599@ktex.com
SUMMARY:Bob Whitten Memorial Golf Tournament
DESCRIPTION:
URL:https://ktex.com/event/bob-whitten-memorial-golf-tournament/
LOCATION:Pecan Lakes Gof Club (Navasota)\, 2001 Fairway Drive\, Navasota\, TX\, 77868\, United States
CATEGORIES:Community Events
ATTACH;FMTTYPE=image/png:https://ktex.com/wp-content/uploads/2023/08/bob-whitten-memorial-golf-tournament.png
END:VEVENT
BEGIN:VEVENT
DTSTART;VALUE=DATE:20230908
DTEND;VALUE=DATE:20230910
DTSTAMP:20260421T080627
CREATED:20230901T211524Z
LAST-MODIFIED:20230901T211524Z
UID:42476-1694131200-1694303999@ktex.com
SUMMARY:Inaugural Whitetail Deer Classic
DESCRIPTION:Free of admission\, enjoy a beer or bourbon\, chat with local taxidermists\, and meet whitetail trophy deer owners from surrounding areas. \nInterested in displaying your whitetail trophy?\nContact: steve@thesmithnavasota.com
URL:https://ktex.com/event/inaugural-whitetail-deer-classic/
LOCATION:P.A. Smith Hotel\, 111 Railroad Street\, Navasota\, TX\, 77868\, United States
CATEGORIES:Community Events
ATTACH;FMTTYPE=image/jpeg:https://ktex.com/wp-content/uploads/2023/09/inaugural-whitetail-deer-classic.jpg
END:VEVENT
BEGIN:VEVENT
DTSTART;VALUE=DATE:20230908
DTEND;VALUE=DATE:20230910
DTSTAMP:20260421T080627
CREATED:20230905T191146Z
LAST-MODIFIED:20230905T191146Z
UID:42519-1694131200-1694303999@ktex.com
SUMMARY:API Bass Tournament
DESCRIPTION:The American Petroleum Institute – Austin Chalk and Brazos Valley Chapters are getting ready to host their annual bass fishing tournament this weekend at Lake Somerville Marina and Campground.   A registration event will take place on Friday\, September 8 at 5 p.m.  Dinner will be served\, and door prizes will be given away.  The tournament gets underway on Saturday\, September 9 at 6 a.m. and will run until 3 p.m.  Prizes include $1\,000 for first place teams in the open division and $500 for teams that finish first in the sportsman division.  There will also be a $100 hourly big bass pot and overall big bass pot.  Proceeds from the tournament go toward local charities and educational endowments.\nFor more details\, head to the API Bass Tournament Facebook page. \nKTEX-106’s Trail Boss Troy will broadcast live from Friday’s dinner and registration event.  KTEX-106 will also provide hourly tournament reports on Saturday.
URL:https://ktex.com/event/api-bass-tournament-2/
LOCATION:Lake Somerville Marina & Campground\, 505 Marina Road\, Brenham\, 77833
CATEGORIES:Community Events
ATTACH;FMTTYPE=image/jpeg:https://ktex.com/wp-content/uploads/2023/09/API-bass-tournament.jpg
END:VEVENT
END:VCALENDAR