BEGIN:VCALENDAR
VERSION:2.0
PRODID:-//KTEX 106.1 - ECPv6.15.20//NONSGML v1.0//EN
CALSCALE:GREGORIAN
METHOD:PUBLISH
X-WR-CALNAME:KTEX 106.1
X-ORIGINAL-URL:https://ktex.com
X-WR-CALDESC:Events for KTEX 106.1
REFRESH-INTERVAL;VALUE=DURATION:PT1H
X-Robots-Tag:noindex
X-PUBLISHED-TTL:PT1H
BEGIN:VTIMEZONE
TZID:America/Chicago
BEGIN:DAYLIGHT
TZOFFSETFROM:-0600
TZOFFSETTO:-0500
TZNAME:CDT
DTSTART:20230312T080000
END:DAYLIGHT
BEGIN:STANDARD
TZOFFSETFROM:-0500
TZOFFSETTO:-0600
TZNAME:CST
DTSTART:20231105T070000
END:STANDARD
BEGIN:DAYLIGHT
TZOFFSETFROM:-0600
TZOFFSETTO:-0500
TZNAME:CDT
DTSTART:20240310T080000
END:DAYLIGHT
BEGIN:STANDARD
TZOFFSETFROM:-0500
TZOFFSETTO:-0600
TZNAME:CST
DTSTART:20241103T070000
END:STANDARD
BEGIN:DAYLIGHT
TZOFFSETFROM:-0600
TZOFFSETTO:-0500
TZNAME:CDT
DTSTART:20250309T080000
END:DAYLIGHT
BEGIN:STANDARD
TZOFFSETFROM:-0500
TZOFFSETTO:-0600
TZNAME:CST
DTSTART:20251102T070000
END:STANDARD
END:VTIMEZONE
BEGIN:VEVENT
DTSTART;VALUE=DATE:20240624
DTEND;VALUE=DATE:20240725
DTSTAMP:20260421T171451
CREATED:20240624T145136Z
LAST-MODIFIED:20240624T145136Z
UID:47819-1719187200-1721865599@ktex.com
SUMMARY:WC Juneteenth Association Seeking Volunteers
DESCRIPTION:
URL:https://ktex.com/event/wc-juneteenth-association-seeking-volunteers/
CATEGORIES:Community Events
ATTACH;FMTTYPE=image/jpeg:https://ktex.com/wp-content/uploads/2024/06/wc-juneteenth-volunteers.jpg
END:VEVENT
BEGIN:VEVENT
DTSTART;VALUE=DATE:20240701
DTEND;VALUE=DATE:20240710
DTSTAMP:20260421T171451
CREATED:20240701T135950Z
LAST-MODIFIED:20240701T135950Z
UID:47893-1719792000-1720569599@ktex.com
SUMMARY:Jury Trial UPDATE
DESCRIPTION:The 9:30 AM Jury Trial for July 9th for JP3\, Judge Duane Houston has been cancelled. Those jurors do not need to appear.\nThe 1:30 PM for July 9th is still as scheduled. The jurors for the 1:30PM trial still need to appear.
URL:https://ktex.com/event/jury-trial-update/
CATEGORIES:Community Events
ATTACH;FMTTYPE=image/jpeg:https://ktex.com/wp-content/uploads/2024/07/jurytrialcanceledFEATURE.jpg
END:VEVENT
BEGIN:VEVENT
DTSTART;VALUE=DATE:20240701
DTEND;VALUE=DATE:20240717
DTSTAMP:20260421T171451
CREATED:20240701T200859Z
LAST-MODIFIED:20240701T200859Z
UID:47897-1719792000-1721174399@ktex.com
SUMMARY:Bellville Soccer Info
DESCRIPTION:
URL:https://ktex.com/event/bellville-soccer-info/
CATEGORIES:Community Events
ATTACH;FMTTYPE=image/jpeg:https://ktex.com/wp-content/uploads/2024/07/bellville-soccer-registration.jpg
END:VEVENT
BEGIN:VEVENT
DTSTART;VALUE=DATE:20240701
DTEND;VALUE=DATE:20240801
DTSTAMP:20260421T171451
CREATED:20240701T201349Z
LAST-MODIFIED:20240701T201349Z
UID:47906-1719792000-1722470399@ktex.com
SUMMARY:SUNSHINE DRIVE
DESCRIPTION:
URL:https://ktex.com/event/sunshine-drive/
CATEGORIES:Community Events
ATTACH;FMTTYPE=image/png:https://ktex.com/wp-content/uploads/2024/07/sunshine-drive.png
END:VEVENT
BEGIN:VEVENT
DTSTART;VALUE=DATE:20240706
DTEND;VALUE=DATE:20240707
DTSTAMP:20260421T171451
CREATED:20240327T214738Z
LAST-MODIFIED:20240327T214738Z
UID:46482-1720224000-1720310399@ktex.com
SUMMARY:Hot Nights-Cool Tunes Concert Series
DESCRIPTION:July 6 – SUEDE \nHigh-energy show\, stellar musicianship\, and epic set list of legendary hits\, SUEDE leaves audiences dazzled!   www.suedeatx.com 
URL:https://ktex.com/event/hot-nights-cool-tunes-concert-series/
LOCATION:Downtown Brenham
CATEGORIES:Community Events
ATTACH;FMTTYPE=image/jpeg:https://ktex.com/wp-content/uploads/2024/03/hot-night-2024.jpg
END:VEVENT
BEGIN:VEVENT
DTSTART;VALUE=DATE:20240706
DTEND;VALUE=DATE:20240707
DTSTAMP:20260421T171451
CREATED:20240604T191127Z
LAST-MODIFIED:20240604T191127Z
UID:47505-1720224000-1720310399@ktex.com
SUMMARY:4th of July Dance (Shelby)
DESCRIPTION:
URL:https://ktex.com/event/4th-of-july-dance-shelby/
LOCATION:Harmonie Hall (Shelby)\, 509 FM 389 West\, Shelby\, TX\, 78940\, United States
CATEGORIES:Community Events
ATTACH;FMTTYPE=image/jpeg:https://ktex.com/wp-content/uploads/2024/06/harmonie-hall-4-of-july-2024.jpg
END:VEVENT
BEGIN:VEVENT
DTSTART;VALUE=DATE:20240706
DTEND;VALUE=DATE:20240707
DTSTAMP:20260421T171451
CREATED:20240620T141152Z
LAST-MODIFIED:20240620T141152Z
UID:47766-1720224000-1720310399@ktex.com
SUMMARY:Fury on the 6th Professional Bull Riding
DESCRIPTION:
URL:https://ktex.com/event/fury-on-the-6th-professional-bull-riding/
LOCATION:LCSP Covered Arena\, Giddings
CATEGORIES:Community Events
ATTACH;FMTTYPE=image/png:https://ktex.com/wp-content/uploads/2024/06/fury-on-the-6th-2024.png
END:VEVENT
BEGIN:VEVENT
DTSTART;VALUE=DATE:20240706
DTEND;VALUE=DATE:20240707
DTSTAMP:20260421T171451
CREATED:20240702T192520Z
LAST-MODIFIED:20240702T192520Z
UID:47934-1720224000-1720310399@ktex.com
SUMMARY:Classic Car Cruise-In (Brenham)
DESCRIPTION:
URL:https://ktex.com/event/classic-car-cruise-in-brenham/
LOCATION:Downtown Brenham
CATEGORIES:Community Events
ATTACH;FMTTYPE=image/jpeg:https://ktex.com/wp-content/uploads/2024/07/car-cruise-in-july.jpg
END:VEVENT
BEGIN:VEVENT
DTSTART;TZID=America/Chicago:20240706T090000
DTEND;TZID=America/Chicago:20240706T120000
DTSTAMP:20260421T171451
CREATED:20240513T201819Z
LAST-MODIFIED:20240513T201819Z
UID:47207-1720256400-1720267200@ktex.com
SUMMARY:Bellville Farmers Market
DESCRIPTION:
URL:https://ktex.com/event/bellville-farmers-market-2/
LOCATION:Jim Bishop Pavilion (Bellville)\, 100 E. Palm Street\, Bellville\, TX\, 77418\, United States
CATEGORIES:Community Events
ATTACH;FMTTYPE=image/png:https://ktex.com/wp-content/uploads/2024/05/bellville-farmers-market-jun-jul-aug.png
END:VEVENT
BEGIN:VEVENT
DTSTART;TZID=America/Chicago:20240706T173000
DTEND;TZID=America/Chicago:20240706T193000
DTSTAMP:20260421T171451
CREATED:20240624T184458Z
LAST-MODIFIED:20240624T185040Z
UID:47834-1720287000-1720294200@ktex.com
SUMMARY:Fury on the 6th
DESCRIPTION:Eilish is rodeoing in Giddings for the Fury on the 6th! Not only will she be watching all the rodeo action\, she’ll even be hanging out tin the shark cage wit the bulls! Catch her at the Lee County Sheriff’s Posse!
URL:https://ktex.com/event/fury-on-the-6th/
LOCATION:Lee County Sheriff’s Posse\, Giddings
CATEGORIES:KTEX on the Road
END:VEVENT
BEGIN:VEVENT
DTSTART;TZID=America/Chicago:20240706T183000
DTEND;TZID=America/Chicago:20240706T223000
DTSTAMP:20260421T171451
CREATED:20240624T185225Z
LAST-MODIFIED:20240624T185225Z
UID:47836-1720290600-1720305000@ktex.com
SUMMARY:Hot Nights Cool Tunes
DESCRIPTION:Downtown Brenham is about to be a party! Legendary band\, Suede\, is coming back to Brenham for the 11th time! They’re playing the best 70’s through modern day hits! Catch Craig there! \n Sponsored by: Brenham National Bank\, Seidel Schroeder\, Dahmann & Associates & Must Be Heaven 
URL:https://ktex.com/event/hot-nights-cool-tunes/
LOCATION:Downtown Brenham\, 100 E. Main St.\, Brenham\, TX\, United States
CATEGORIES:KTEX on the Road
END:VEVENT
END:VCALENDAR