BEGIN:VCALENDAR
VERSION:2.0
PRODID:-//KTEX 106.1 - ECPv6.15.20//NONSGML v1.0//EN
CALSCALE:GREGORIAN
METHOD:PUBLISH
X-WR-CALNAME:KTEX 106.1
X-ORIGINAL-URL:https://ktex.com
X-WR-CALDESC:Events for KTEX 106.1
REFRESH-INTERVAL;VALUE=DURATION:PT1H
X-Robots-Tag:noindex
X-PUBLISHED-TTL:PT1H
BEGIN:VTIMEZONE
TZID:America/Chicago
BEGIN:DAYLIGHT
TZOFFSETFROM:-0600
TZOFFSETTO:-0500
TZNAME:CDT
DTSTART:20230312T080000
END:DAYLIGHT
BEGIN:STANDARD
TZOFFSETFROM:-0500
TZOFFSETTO:-0600
TZNAME:CST
DTSTART:20231105T070000
END:STANDARD
BEGIN:DAYLIGHT
TZOFFSETFROM:-0600
TZOFFSETTO:-0500
TZNAME:CDT
DTSTART:20240310T080000
END:DAYLIGHT
BEGIN:STANDARD
TZOFFSETFROM:-0500
TZOFFSETTO:-0600
TZNAME:CST
DTSTART:20241103T070000
END:STANDARD
BEGIN:DAYLIGHT
TZOFFSETFROM:-0600
TZOFFSETTO:-0500
TZNAME:CDT
DTSTART:20250309T080000
END:DAYLIGHT
BEGIN:STANDARD
TZOFFSETFROM:-0500
TZOFFSETTO:-0600
TZNAME:CST
DTSTART:20251102T070000
END:STANDARD
END:VTIMEZONE
BEGIN:VEVENT
DTSTART;VALUE=DATE:20240201
DTEND;VALUE=DATE:20240316
DTSTAMP:20260424T012304
CREATED:20240118T143402Z
LAST-MODIFIED:20240118T143402Z
UID:45222-1706745600-1710547199@ktex.com
SUMMARY:Washington County Fair Scholarship Program
DESCRIPTION:The 2024 Washington County Fair Scholarship Application is now open! Updated guidelines and application can be found on our website! >> http://tinyurl.com/k2apkhyz
URL:https://ktex.com/event/washington-county-fair-scholarship-program/
LOCATION:TX
CATEGORIES:Community Events
ATTACH;FMTTYPE=image/jpeg:https://ktex.com/wp-content/uploads/2024/01/wcf-scholarships.jpg
END:VEVENT
BEGIN:VEVENT
DTSTART;VALUE=DATE:20240301
DTEND;VALUE=DATE:20240303
DTSTAMP:20260424T012304
CREATED:20240222T144502Z
LAST-MODIFIED:20240222T144502Z
UID:45858-1709251200-1709423999@ktex.com
SUMMARY:Texas Birthday Bash
DESCRIPTION:
URL:https://ktex.com/event/texas-birthday-bash-2/
LOCATION:Downtown Navasota
CATEGORIES:Community Events
ATTACH;FMTTYPE=image/jpeg:https://ktex.com/wp-content/uploads/2024/02/tx-birthday-bash-march.jpg
END:VEVENT
BEGIN:VEVENT
DTSTART;VALUE=DATE:20240301
DTEND;VALUE=DATE:20240303
DTSTAMP:20260424T012304
CREATED:20240226T202747Z
LAST-MODIFIED:20240226T202747Z
UID:45915-1709251200-1709423999@ktex.com
SUMMARY:Boys Scout Troop 36 Annual Rummage Sale
DESCRIPTION:
URL:https://ktex.com/event/boys-scout-troop-36-annual-rummage-sale/
LOCATION:St. John’s Retreat Center\, 4740 Hwy 36 N\, Bellville\, TX\, 77418\, United States
CATEGORIES:Community Events
ATTACH;FMTTYPE=image/png:https://ktex.com/wp-content/uploads/2024/02/rummage-sale-boy-scout-troop.png
END:VEVENT
BEGIN:VEVENT
DTSTART;VALUE=DATE:20240301
DTEND;VALUE=DATE:20240311
DTSTAMP:20260424T012304
CREATED:20240227T222143Z
LAST-MODIFIED:20240227T222143Z
UID:45944-1709251200-1710115199@ktex.com
SUMMARY:Musician Wanted at Harris Spring Church
DESCRIPTION:
URL:https://ktex.com/event/musician-wanted-at-harris-spring-church/
LOCATION:TX
CATEGORIES:Community Events
ATTACH;FMTTYPE=image/png:https://ktex.com/wp-content/uploads/2024/02/musician-wanted-harris-spring.png
END:VEVENT
BEGIN:VEVENT
DTSTART;VALUE=DATE:20240302
DTEND;VALUE=DATE:20240303
DTSTAMP:20260424T012304
CREATED:20231205T171534Z
LAST-MODIFIED:20231205T200248Z
UID:44367-1709337600-1709423999@ktex.com
SUMMARY:Texas Birthday Bash
DESCRIPTION:Navasota knows how to throw a party\, especially a Texas Sized party! The KTEX is heading out to celebrate Texas’ birthday with a huge birthday bash! Catch us there in the KTEX Country Cruiser!
URL:https://ktex.com/event/texas-birthday-bash/
LOCATION:Downtown Navasota
CATEGORIES:KTEX on the Road
END:VEVENT
BEGIN:VEVENT
DTSTART;VALUE=DATE:20240302
DTEND;VALUE=DATE:20240303
DTSTAMP:20260424T012304
CREATED:20231229T194436Z
LAST-MODIFIED:20240208T200322Z
UID:44747-1709337600-1709423999@ktex.com
SUMMARY:Lee County Jr. Livestock Show
DESCRIPTION:KTEX is always so excited to support the youth of Lee County! Catch Dean at the Lee County Junior Livestock show for the Auction!
URL:https://ktex.com/event/lee-county-jr-livestock-show/
LOCATION:Lee County Fairgrounds\, 289 W Railroad Road\, Giddings\, TX\, 78942\, United States
CATEGORIES:KTEX on the Road
END:VEVENT
BEGIN:VEVENT
DTSTART;VALUE=DATE:20240302
DTEND;VALUE=DATE:20240303
DTSTAMP:20260424T012304
CREATED:20240108T193120Z
LAST-MODIFIED:20240108T193120Z
UID:44978-1709337600-1709423999@ktex.com
SUMMARY:Market Day & Bellville Farmers Market
DESCRIPTION:
URL:https://ktex.com/event/market-day-bellville-farmers-market-2/
LOCATION:TX
CATEGORIES:Community Events
ATTACH;FMTTYPE=image/png:https://ktex.com/wp-content/uploads/2024/01/market-day-bellville-farmers-market-feb-mar-apr-may.png
END:VEVENT
BEGIN:VEVENT
DTSTART;VALUE=DATE:20240302
DTEND;VALUE=DATE:20240303
DTSTAMP:20260424T012304
CREATED:20240213T202845Z
LAST-MODIFIED:20240213T202845Z
UID:45693-1709337600-1709423999@ktex.com
SUMMARY:Dinner Entertainment Night with Bellville Lions Club
DESCRIPTION:
URL:https://ktex.com/event/dinner-entertainment-night-with-bellville-lions-club/
LOCATION:Austin County Expo Center\, 1076 TX-159\, Bellville\, TX\, 77418\, United States
CATEGORIES:Community Events
ATTACH;FMTTYPE=image/png:https://ktex.com/wp-content/uploads/2024/02/dinner-entertainment-night.png
END:VEVENT
BEGIN:VEVENT
DTSTART;VALUE=DATE:20240302
DTEND;VALUE=DATE:20240303
DTSTAMP:20260424T012304
CREATED:20240229T150301Z
LAST-MODIFIED:20240229T150301Z
UID:45963-1709337600-1709423999@ktex.com
SUMMARY:Cancer Awareness Gospel Musical
DESCRIPTION:
URL:https://ktex.com/event/cancer-awareness-gospel-musical/
LOCATION:Main Street Missionary Baptist Church (Brenham)\, 905 East Main Street\, Brenham\, TX\, 77833\, United States
CATEGORIES:Community Events
ATTACH;FMTTYPE=image/jpeg:https://ktex.com/wp-content/uploads/2024/02/cancer-awareness-musical.jpg
END:VEVENT
BEGIN:VEVENT
DTSTART;TZID=America/Chicago:20240302T100000
DTEND;TZID=America/Chicago:20240302T120000
DTSTAMP:20260424T012304
CREATED:20240222T185709Z
LAST-MODIFIED:20240222T185709Z
UID:45877-1709373600-1709380800@ktex.com
SUMMARY:nami Brazos Valley - Meet and Greet
DESCRIPTION:
URL:https://ktex.com/event/nami-brazos-valley-meet-and-greet/
LOCATION:Nancy Carol Roberts Memorial Library\, 100 Martin Luther King Jr. Parkway\, Brenham\, Texas\, 77833
CATEGORIES:Community Events
ATTACH;FMTTYPE=image/jpeg:https://ktex.com/wp-content/uploads/2024/02/nami-mar-2.jpg
END:VEVENT
BEGIN:VEVENT
DTSTART;TZID=America/Chicago:20240302T110000
DTEND;TZID=America/Chicago:20240302T130000
DTSTAMP:20260424T012304
CREATED:20240301T153624Z
LAST-MODIFIED:20240301T153624Z
UID:45977-1709377200-1709384400@ktex.com
SUMMARY:Empty Bowls Jr Event
DESCRIPTION:Attendees can help end hunger\, enjoy music by Bryan High Mariachi and A&M Consolidated Middle School Orchestra\, and view artistic bowls created by Brazos Valley students and teachers. For every $10 donation\, attendees will receive a bowl and a cup of delicious soup provided by local restaurants. All proceeds from this event will benefit local in-school pantries and Arts Council Children’s Programs. \n  \nFor more information about Empty Bowls Jr.\, visit acbv.org/event/empty-bowls-junior.
URL:https://ktex.com/event/empty-bowls-jr-event/
LOCATION:Allen Honda\, 2450 Earl Rudder Frwy South\, College Station\, TX\, 77840\, United States
CATEGORIES:Community Events
ATTACH;FMTTYPE=image/png:https://ktex.com/wp-content/uploads/2024/03/help-end-hunger.png
END:VEVENT
BEGIN:VEVENT
DTSTART;TZID=America/Chicago:20240302T200000
DTEND;TZID=America/Chicago:20240302T230000
DTSTAMP:20260424T012304
CREATED:20240103T173952Z
LAST-MODIFIED:20240103T173952Z
UID:44871-1709409600-1709420400@ktex.com
SUMMARY:Keith Michael
DESCRIPTION:
URL:https://ktex.com/event/keith-michael/
LOCATION:Floyd’s Lounge\, 315 S. Baylor St.\, Brenham\, TX\, 77833\, United States
ATTACH;FMTTYPE=image/jpeg:https://ktex.com/wp-content/uploads/2024/01/download-10.jpg
END:VEVENT
BEGIN:VEVENT
DTSTART;TZID=America/Chicago:20240302T200000
DTEND;TZID=America/Chicago:20240302T230000
DTSTAMP:20260424T012304
CREATED:20240103T175129Z
LAST-MODIFIED:20240103T175129Z
UID:44882-1709409600-1709420400@ktex.com
SUMMARY:The Brandon McDermott Band
DESCRIPTION:
URL:https://ktex.com/event/the-brandon-mcdermott-band/
LOCATION:HSF Biergarten\, 307 South Park Street\, Brenham\, TX\, 77833\, United States
ATTACH;FMTTYPE=image/webp:https://ktex.com/wp-content/uploads/2024/01/Screenshot-2023-12-01-at-1.49.30-PM_1701460191.webp
END:VEVENT
END:VCALENDAR